BEGIN:VCALENDAR
VERSION:2.0
PRODID:-//Le Chemin - ECPv6.7.0//NONSGML v1.0//EN
CALSCALE:GREGORIAN
METHOD:PUBLISH
X-ORIGINAL-URL:https://lechemin.ca
X-WR-CALDESC:évènements pour Le Chemin
REFRESH-INTERVAL;VALUE=DURATION:PT1H
X-Robots-Tag:noindex
X-PUBLISHED-TTL:PT1H
BEGIN:VTIMEZONE
TZID:America/Toronto
BEGIN:DAYLIGHT
TZOFFSETFROM:-0500
TZOFFSETTO:-0400
TZNAME:EDT
DTSTART:20190310T070000
END:DAYLIGHT
BEGIN:STANDARD
TZOFFSETFROM:-0400
TZOFFSETTO:-0500
TZNAME:EST
DTSTART:20191103T060000
END:STANDARD
END:VTIMEZONE
BEGIN:VEVENT
DTSTART;TZID=America/Toronto:20190201T080000
DTEND;TZID=America/Toronto:20190201T213000
DTSTAMP:20260421T221754
CREATED:20190119T210651Z
LAST-MODIFIED:20190119T210651Z
UID:15194-1549008000-1549056600@lechemin.ca
SUMMARY:History Makers
DESCRIPTION:
URL:https://lechemin.ca/event/history-makers-2/
LOCATION:Le Chemin – Vernon\, 480 Vernon\, Gatineau\, Québec\, J9J 3K5\, Canada
GEO:45.4442315;-75.7998119
X-APPLE-STRUCTURED-LOCATION;VALUE=URI;X-ADDRESS=Le Chemin – Vernon 480 Vernon Gatineau Québec J9J 3K5 Canada;X-APPLE-RADIUS=500;X-TITLE=480 Vernon:geo:-75.7998119,45.4442315
END:VEVENT
BEGIN:VEVENT
DTSTART;TZID=America/Toronto:20190202T080000
DTEND;TZID=America/Toronto:20190202T213000
DTSTAMP:20260421T221754
CREATED:20190119T210807Z
LAST-MODIFIED:20190119T210807Z
UID:15196-1549094400-1549143000@lechemin.ca
SUMMARY:History Makers
DESCRIPTION:
URL:https://lechemin.ca/event/history-makers-3/
LOCATION:Le Chemin – Vernon\, 480 Vernon\, Gatineau\, Québec\, J9J 3K5\, Canada
GEO:45.4442315;-75.7998119
X-APPLE-STRUCTURED-LOCATION;VALUE=URI;X-ADDRESS=Le Chemin – Vernon 480 Vernon Gatineau Québec J9J 3K5 Canada;X-APPLE-RADIUS=500;X-TITLE=480 Vernon:geo:-75.7998119,45.4442315
END:VEVENT
BEGIN:VEVENT
DTSTART;TZID=America/Toronto:20190203T130000
DTEND;TZID=America/Toronto:20190203T174500
DTSTAMP:20260421T221754
CREATED:20190119T210906Z
LAST-MODIFIED:20190119T210906Z
UID:15198-1549198800-1549215900@lechemin.ca
SUMMARY:History Makers
DESCRIPTION:
URL:https://lechemin.ca/event/history-makers-4/
LOCATION:Québec
END:VEVENT
BEGIN:VEVENT
DTSTART;TZID=America/Toronto:20190224T100000
DTEND;TZID=America/Toronto:20190224T120000
DTSTAMP:20260421T221754
CREATED:20180508T175000Z
LAST-MODIFIED:20190119T222305Z
UID:13223-1551002400-1551009600@lechemin.ca
SUMMARY:Rencontre du dimanche - Lancement des cellules - Gatineau-Est
DESCRIPTION:
URL:https://lechemin.ca/event/rencontre-du-dimanche-gatineau-est-2019-02-24/
LOCATION:Le Chemin – Gatineau-Est\, 1736\, boulevard Maloney Est\, Gatineau\, Québec\, J8R 1B4
GEO:45.5044055;-75.5580958
X-APPLE-STRUCTURED-LOCATION;VALUE=URI;X-ADDRESS=Le Chemin – Gatineau-Est 1736 boulevard Maloney Est Gatineau Québec J8R 1B4;X-APPLE-RADIUS=500;X-TITLE=1736\, boulevard Maloney Est:geo:-75.5580958,45.5044055
END:VEVENT
BEGIN:VEVENT
DTSTART;TZID=America/Toronto:20190224T103000
DTEND;TZID=America/Toronto:20190224T123000
DTSTAMP:20260421T221754
CREATED:20180508T174558Z
LAST-MODIFIED:20190119T223111Z
UID:13446-1551004200-1551011400@lechemin.ca
SUMMARY:Rencontre du dimanche - Lancement de cellules - Vernon
DESCRIPTION:
URL:https://lechemin.ca/event/rencontre-du-dimanche-vernon-2019-02-24/
LOCATION:Le Chemin – Vernon\, 480 Vernon\, Gatineau\, Québec\, J9J 3K5\, Canada
GEO:45.4442315;-75.7998119
X-APPLE-STRUCTURED-LOCATION;VALUE=URI;X-ADDRESS=Le Chemin – Vernon 480 Vernon Gatineau Québec J9J 3K5 Canada;X-APPLE-RADIUS=500;X-TITLE=480 Vernon:geo:-75.7998119,45.4442315
END:VEVENT
BEGIN:VEVENT
DTSTART;TZID=America/Toronto:20190224T103000
DTEND;TZID=America/Toronto:20190224T123000
DTSTAMP:20260421T221754
CREATED:20180508T174807Z
LAST-MODIFIED:20190119T222714Z
UID:13373-1551004200-1551011400@lechemin.ca
SUMMARY:Rencontre du dimanche - Lancement des cellules - Maniwaki
DESCRIPTION:
URL:https://lechemin.ca/event/rencontre-du-dimanche-maniwaki-2019-02-24/
LOCATION:Le Chemin – Maniwaki\, 257\, rue des Oblats\, Maniwaki\, Québec\, J9E 1G6
GEO:46.3796006;-75.9749274
X-APPLE-STRUCTURED-LOCATION;VALUE=URI;X-ADDRESS=Le Chemin – Maniwaki 257 rue des Oblats Maniwaki Québec J9E 1G6;X-APPLE-RADIUS=500;X-TITLE=257\, rue des Oblats:geo:-75.9749274,46.3796006
END:VEVENT
END:VCALENDAR