BEGIN:VCALENDAR
VERSION:2.0
PRODID:-//Le Chemin - ECPv6.7.0//NONSGML v1.0//EN
CALSCALE:GREGORIAN
METHOD:PUBLISH
X-WR-CALNAME:Le Chemin
X-ORIGINAL-URL:https://lechemin.ca
X-WR-CALDESC:évènements pour Le Chemin
REFRESH-INTERVAL;VALUE=DURATION:PT1H
X-Robots-Tag:noindex
X-PUBLISHED-TTL:PT1H
BEGIN:VTIMEZONE
TZID:America/Toronto
BEGIN:DAYLIGHT
TZOFFSETFROM:-0500
TZOFFSETTO:-0400
TZNAME:EDT
DTSTART:20190310T070000
END:DAYLIGHT
BEGIN:STANDARD
TZOFFSETFROM:-0400
TZOFFSETTO:-0500
TZNAME:EST
DTSTART:20191103T060000
END:STANDARD
END:VTIMEZONE
BEGIN:VEVENT
DTSTART;TZID=America/Toronto:20190126T100000
DTEND;TZID=America/Toronto:20190126T130000
DTSTAMP:20260421T234203
CREATED:20190119T212347Z
LAST-MODIFIED:20190119T212347Z
UID:15212-1548496800-1548507600@lechemin.ca
SUMMARY:Déjeuner des femmes
DESCRIPTION:
URL:https://lechemin.ca/event/dejeuner-des-femmes/
LOCATION:Le Chemin – Gatineau-Est\, 1736\, boulevard Maloney Est\, Gatineau\, Québec\, J8R 1B4
GEO:45.5044055;-75.5580958
X-APPLE-STRUCTURED-LOCATION;VALUE=URI;X-ADDRESS=Le Chemin – Gatineau-Est 1736 boulevard Maloney Est Gatineau Québec J8R 1B4;X-APPLE-RADIUS=500;X-TITLE=1736\, boulevard Maloney Est:geo:-75.5580958,45.5044055
END:VEVENT
BEGIN:VEVENT
DTSTART;TZID=America/Toronto:20190131T190000
DTEND;TZID=America/Toronto:20190131T221500
DTSTAMP:20260421T234203
CREATED:20190119T210542Z
LAST-MODIFIED:20190119T210542Z
UID:15192-1548961200-1548972900@lechemin.ca
SUMMARY:History Makers
DESCRIPTION:
URL:https://lechemin.ca/event/history-makers/
LOCATION:Le Chemin – Vernon\, 480 Vernon\, Gatineau\, Québec\, J9J 3K5\, Canada
GEO:45.4442315;-75.7998119
X-APPLE-STRUCTURED-LOCATION;VALUE=URI;X-ADDRESS=Le Chemin – Vernon 480 Vernon Gatineau Québec J9J 3K5 Canada;X-APPLE-RADIUS=500;X-TITLE=480 Vernon:geo:-75.7998119,45.4442315
END:VEVENT
END:VCALENDAR