BEGIN:VCALENDAR
VERSION:2.0
PRODID:-//Le Chemin - ECPv6.7.0//NONSGML v1.0//EN
CALSCALE:GREGORIAN
METHOD:PUBLISH
X-WR-CALNAME:Le Chemin
X-ORIGINAL-URL:https://lechemin.ca
X-WR-CALDESC:évènements pour Le Chemin
REFRESH-INTERVAL;VALUE=DURATION:PT1H
X-Robots-Tag:noindex
X-PUBLISHED-TTL:PT1H
BEGIN:VTIMEZONE
TZID:America/Toronto
BEGIN:DAYLIGHT
TZOFFSETFROM:-0500
TZOFFSETTO:-0400
TZNAME:EDT
DTSTART:20180311T070000
END:DAYLIGHT
BEGIN:STANDARD
TZOFFSETFROM:-0400
TZOFFSETTO:-0500
TZNAME:EST
DTSTART:20181104T060000
END:STANDARD
END:VTIMEZONE
BEGIN:VEVENT
DTSTART;TZID=America/Toronto:20181215T180000
DTEND;TZID=America/Toronto:20181215T203000
DTSTAMP:20260422T005955
CREATED:20181124T183103Z
LAST-MODIFIED:20181124T184101Z
UID:15005-1544896800-1544905800@lechemin.ca
SUMMARY:Concert d'évangélisation : Revivre
DESCRIPTION:Revivre aura lieu le 15 décembre 2018\, de 18 h à 20 h 30\, au 480 Vernon. \nSaisissons l’occasion des fêtes de Noël et du Nouvel An pour inviter au moins un ami\, voisin\, parent\, ou collègue à venir se réjouir et entendre parler de Jésus. Avec Jésus\, il y a encore de l’espoir pour toi aujourd’hui.
URL:https://lechemin.ca/event/concert-devangelisation-revivre/
LOCATION:Le Chemin – Vernon\, 480 Vernon\, Gatineau\, Québec\, J9J 3K5\, Canada
GEO:45.4442315;-75.7998119
X-APPLE-STRUCTURED-LOCATION;VALUE=URI;X-ADDRESS=Le Chemin – Vernon 480 Vernon Gatineau Québec J9J 3K5 Canada;X-APPLE-RADIUS=500;X-TITLE=480 Vernon:geo:-75.7998119,45.4442315
END:VEVENT
END:VCALENDAR