BEGIN:VCALENDAR
VERSION:2.0
PRODID:-//Le Chemin - ECPv6.7.0//NONSGML v1.0//EN
CALSCALE:GREGORIAN
METHOD:PUBLISH
X-WR-CALNAME:Le Chemin
X-ORIGINAL-URL:https://lechemin.ca
X-WR-CALDESC:évènements pour Le Chemin
REFRESH-INTERVAL;VALUE=DURATION:PT1H
X-Robots-Tag:noindex
X-PUBLISHED-TTL:PT1H
BEGIN:VTIMEZONE
TZID:America/Toronto
BEGIN:DAYLIGHT
TZOFFSETFROM:-0500
TZOFFSETTO:-0400
TZNAME:EDT
DTSTART:20180311T070000
END:DAYLIGHT
BEGIN:STANDARD
TZOFFSETFROM:-0400
TZOFFSETTO:-0500
TZNAME:EST
DTSTART:20181104T060000
END:STANDARD
END:VTIMEZONE
BEGIN:VEVENT
DTSTART;TZID=America/Toronto:20180811T170000
DTEND;TZID=America/Toronto:20180811T190000
DTSTAMP:20260422T062541
CREATED:20180727T214025Z
LAST-MODIFIED:20180727T215245Z
UID:14543-1534006800-1534014000@lechemin.ca
SUMMARY:Saveurs exotiques
DESCRIPTION:Ne manquez pas cet événement d’évangélisation unique le 11 août de 17 h à 19 h au 480 Vernon.  \nSaveurs exotiques est une occasion d’inviter des connaissances dans un 5 à 7 culinaire où il sera possible de déguster des mets de seize pays différents à un coût minime de 1\,50 $ l’unité\, le tout dans une ambiance café jazz. Passez le mot!\n \nPour plus d’information\, veuillez contacter Jean-Pierre Leroux. 
URL:https://lechemin.ca/event/saveurs-exotiques/
LOCATION:Le Chemin – Vernon\, 480 Vernon\, Gatineau\, Québec\, J9J 3K5\, Canada
GEO:45.4442315;-75.7998119
X-APPLE-STRUCTURED-LOCATION;VALUE=URI;X-ADDRESS=Le Chemin – Vernon 480 Vernon Gatineau Québec J9J 3K5 Canada;X-APPLE-RADIUS=500;X-TITLE=480 Vernon:geo:-75.7998119,45.4442315
END:VEVENT
BEGIN:VEVENT
DTSTART;VALUE=DATE:20180829
DTEND;VALUE=DATE:20180901
DTSTAMP:20260422T062541
CREATED:20180829T172231Z
LAST-MODIFIED:20180829T172231Z
UID:14699-1535500800-1535759999@lechemin.ca
SUMMARY:Trois jours de prière pour la percée
DESCRIPTION:Trois jours pour pousser dans la prière *au téléphone*.\nMercredi-jeudi-vendredi\n29-30-31 août 2018\nTous les matins de 5 h 30 à 6 h 30.\nTous les midis de 12 h à 12 h 30.\nPour participer :\nComposer le numéro de téléphone 514-819-0355 et ensuite le code d’accès 55 55 55 55. \nVendredi : prière ensemble au 480 Vernon\, de 21 h à minuit.
URL:https://lechemin.ca/event/trois-jours-de-priere-pour-la-percee/
LOCATION:Québec
END:VEVENT
END:VCALENDAR