BEGIN:VCALENDAR
VERSION:2.0
PRODID:-//Le Chemin - ECPv6.7.0//NONSGML v1.0//EN
CALSCALE:GREGORIAN
METHOD:PUBLISH
X-ORIGINAL-URL:https://lechemin.ca
X-WR-CALDESC:évènements pour Le Chemin
REFRESH-INTERVAL;VALUE=DURATION:PT1H
X-Robots-Tag:noindex
X-PUBLISHED-TTL:PT1H
BEGIN:VTIMEZONE
TZID:UTC
BEGIN:STANDARD
TZOFFSETFROM:+0000
TZOFFSETTO:+0000
TZNAME:UTC
DTSTART:20170101T000000
END:STANDARD
END:VTIMEZONE
BEGIN:VEVENT
DTSTART;VALUE=DATE:20170101
DTEND;VALUE=DATE:20170102
DTSTAMP:20260423T081229
CREATED:20161204T023848Z
LAST-MODIFIED:20161204T023848Z
UID:9595-1483228800-1483315199@lechemin.ca
SUMMARY:Voir note
DESCRIPTION:Veuillez noter que nous n’aurons pas de rencontre le dimanche du 1er janvier.
URL:https://lechemin.ca/event/voir-note-2/
LOCATION:Québec
END:VEVENT
END:VCALENDAR