BEGIN:VCALENDAR
VERSION:2.0
PRODID:-//Le Chemin - ECPv6.7.0//NONSGML v1.0//EN
CALSCALE:GREGORIAN
METHOD:PUBLISH
X-ORIGINAL-URL:https://lechemin.ca
X-WR-CALDESC:évènements pour Le Chemin
REFRESH-INTERVAL;VALUE=DURATION:PT1H
X-Robots-Tag:noindex
X-PUBLISHED-TTL:PT1H
BEGIN:VTIMEZONE
TZID:America/Toronto
BEGIN:DAYLIGHT
TZOFFSETFROM:-0500
TZOFFSETTO:-0400
TZNAME:EDT
DTSTART:20190310T070000
END:DAYLIGHT
BEGIN:STANDARD
TZOFFSETFROM:-0400
TZOFFSETTO:-0500
TZNAME:EST
DTSTART:20191103T060000
END:STANDARD
END:VTIMEZONE
BEGIN:VEVENT
DTSTART;TZID=America/Toronto:20190906T180000
DTEND;TZID=America/Toronto:20190907T060000
DTSTAMP:20260421T141803
CREATED:20190904T213030Z
LAST-MODIFIED:20190904T213251Z
UID:16517-1567792800-1567836000@lechemin.ca
SUMMARY:LES QUATRE VEILLES DE LA NUIT
DESCRIPTION:Les quatre veilles de la nuit commenceront par un temps de louange suivie de moments d’exhortation et de prière :\n18 h à 21 h : Nous\, nos familles\, l’église\n21 h à minuit : Notre témoignage autour de nous (Le salut des âmes et l’avancement du royaume de Dieu face aux ténèbres du monde)\nMinuit à 3 h : Israël et les nations (Nous prierons pour chaque nation que nous représentons)\n3 h à 6 h : Le Seigneur lui-même (Sa face\, sa présence\, son royaume\, son retour)* \n*Les thèmes vont s’entrecroiser d’une veille à l’autre selon la direction de l’Esprit\, donc l’ordre ci-haut ne sera pas nécessairement suivi. Le combat spirituel sera intégré à chaque thème\, de même que l’intercession. \nVenez passer la nuit\nou l’une des 4 veilles\nou même une heure.\nNous débutons vendredi à 18 h. À bientôt! \nNote : Pour les enfants\nVous pouvez amener vos enfants et nous les ferons participer à la veille dans la mesure du possible\, tant qu’ils en auront la force. Apportez des sacs de couchage pour le moment où ils voudront dormir. Vous pourrez les coucher dans le sanctuaire où nous serons. Pour des raisons de sécurité\, nous n’utiliserons aucun autre local que le sanctuaire.
URL:https://lechemin.ca/event/les-quatre-veilles-de-la-nuit/
LOCATION:Le Chemin – Vernon\, 480 Vernon\, Gatineau\, Québec\, J9J 3K5\, Canada
GEO:45.4442315;-75.7998119
X-APPLE-STRUCTURED-LOCATION;VALUE=URI;X-ADDRESS=Le Chemin – Vernon 480 Vernon Gatineau Québec J9J 3K5 Canada;X-APPLE-RADIUS=500;X-TITLE=480 Vernon:geo:-75.7998119,45.4442315
END:VEVENT
END:VCALENDAR