BEGIN:VCALENDAR
VERSION:2.0
PRODID:-//Le Chemin - ECPv6.7.0//NONSGML v1.0//EN
CALSCALE:GREGORIAN
METHOD:PUBLISH
X-ORIGINAL-URL:https://lechemin.ca
X-WR-CALDESC:évènements pour Le Chemin
REFRESH-INTERVAL;VALUE=DURATION:PT1H
X-Robots-Tag:noindex
X-PUBLISHED-TTL:PT1H
BEGIN:VTIMEZONE
TZID:America/Toronto
BEGIN:DAYLIGHT
TZOFFSETFROM:-0500
TZOFFSETTO:-0400
TZNAME:EDT
DTSTART:20180311T070000
END:DAYLIGHT
BEGIN:STANDARD
TZOFFSETFROM:-0400
TZOFFSETTO:-0500
TZNAME:EST
DTSTART:20181104T060000
END:STANDARD
END:VTIMEZONE
BEGIN:VEVENT
DTSTART;TZID=America/Toronto:20180923T103000
DTEND;TZID=America/Toronto:20180923T123000
DTSTAMP:20260422T062844
CREATED:20180829T173022Z
LAST-MODIFIED:20180829T173022Z
UID:14709-1537698600-1537705800@lechemin.ca
SUMMARY:Lancement de cellules
DESCRIPTION:C’est de nouveau ce temps de l’année où nous lançons nos cellules de l’automne!  \nLa session d’automne commencera le 23 septembre et\nira jusqu’à la fin de décembre. \n Vous êtes invités à participer activement à la vie de l’église en dirigeant une cellule. Plus d’info.
URL:https://lechemin.ca/event/lancement-de-cellules/
LOCATION:Québec
END:VEVENT
END:VCALENDAR