BEGIN:VCALENDAR
VERSION:2.0
PRODID:-//Le Chemin - ECPv6.7.0//NONSGML v1.0//EN
CALSCALE:GREGORIAN
METHOD:PUBLISH
X-WR-CALNAME:Le Chemin
X-ORIGINAL-URL:https://lechemin.ca
X-WR-CALDESC:évènements pour Le Chemin
REFRESH-INTERVAL;VALUE=DURATION:PT1H
X-Robots-Tag:noindex
X-PUBLISHED-TTL:PT1H
BEGIN:VTIMEZONE
TZID:America/Toronto
BEGIN:DAYLIGHT
TZOFFSETFROM:-0500
TZOFFSETTO:-0400
TZNAME:EDT
DTSTART:20180311T070000
END:DAYLIGHT
BEGIN:STANDARD
TZOFFSETFROM:-0400
TZOFFSETTO:-0500
TZNAME:EST
DTSTART:20181104T060000
END:STANDARD
END:VTIMEZONE
BEGIN:VEVENT
DTSTART;TZID=America/Toronto:20180728T190000
DTEND;TZID=America/Toronto:20180728T210000
DTSTAMP:20260422T094056
CREATED:20180727T223737Z
LAST-MODIFIED:20180727T230709Z
UID:14564-1532804400-1532811600@lechemin.ca
SUMMARY:SAMEDI DE VENIR CHEZ TOI
DESCRIPTION:Dans le cadre de nos cellules d’été Samedi de venir chez toi\, nous vous attendons ce samedi 28 juillet chez nos amis Patrick et Magnifique à 19 h. Nous aurons un court témoignage d’une personne qui nous dira comment Dieu a changé sa vie et le pasteur Jean-Pierre partagera entre cinq et dix minutes sur un passage de la Parole de Dieu. Après… bon temps de communion fraternelle et d’amitié.\nInvitez un ami! 
URL:https://lechemin.ca/event/samedi-de-venir-chez-toi/
LOCATION:Chez Patrick et Magnifique\, 74\, rue de Pergame\, Gatineau\, Québec
GEO:45.4358282;-75.8080913
X-APPLE-STRUCTURED-LOCATION;VALUE=URI;X-ADDRESS=Chez Patrick et Magnifique 74 rue de Pergame Gatineau Québec;X-APPLE-RADIUS=500;X-TITLE=74\, rue de Pergame:geo:-75.8080913,45.4358282
END:VEVENT
END:VCALENDAR