BEGIN:VCALENDAR
VERSION:2.0
PRODID:-//Le Chemin - ECPv6.7.0//NONSGML v1.0//EN
CALSCALE:GREGORIAN
METHOD:PUBLISH
X-WR-CALNAME:Le Chemin
X-ORIGINAL-URL:https://lechemin.ca
X-WR-CALDESC:évènements pour Le Chemin
REFRESH-INTERVAL;VALUE=DURATION:PT1H
X-Robots-Tag:noindex
X-PUBLISHED-TTL:PT1H
BEGIN:VTIMEZONE
TZID:UTC
BEGIN:STANDARD
TZOFFSETFROM:+0000
TZOFFSETTO:+0000
TZNAME:UTC
DTSTART:20160101T000000
END:STANDARD
END:VTIMEZONE
BEGIN:VEVENT
DTSTART;VALUE=DATE:20161231
DTEND;VALUE=DATE:20170101
DTSTAMP:20260423T111934
CREATED:20161204T022936Z
LAST-MODIFIED:20161204T023632Z
UID:9591-1483142400-1483228799@lechemin.ca
SUMMARY:Rencontre de la veille du Jour de l’An
DESCRIPTION:Nous aurons notre rencontre traditionnelle de la veille du Jour de l’An le 31 décembre\, à partir de 22 h\, suivi d’un repas partage après minuit.
URL:https://lechemin.ca/event/rencontre-de-la-veille-du-jour-de-lan/
LOCATION:Québec
END:VEVENT
END:VCALENDAR