BEGIN:VCALENDAR
VERSION:2.0
PRODID:-//Le Chemin - ECPv6.7.0//NONSGML v1.0//EN
CALSCALE:GREGORIAN
METHOD:PUBLISH
X-ORIGINAL-URL:https://lechemin.ca
X-WR-CALDESC:évènements pour Le Chemin
REFRESH-INTERVAL;VALUE=DURATION:PT1H
X-Robots-Tag:noindex
X-PUBLISHED-TTL:PT1H
BEGIN:VTIMEZONE
TZID:UTC
BEGIN:STANDARD
TZOFFSETFROM:+0000
TZOFFSETTO:+0000
TZNAME:UTC
DTSTART:20160101T000000
END:STANDARD
END:VTIMEZONE
BEGIN:VEVENT
DTSTART;TZID=UTC:20161211T103000
DTEND;TZID=UTC:20161211T123000
DTSTAMP:20260423T111300
CREATED:20161204T004913Z
LAST-MODIFIED:20161204T010533Z
UID:9559-1481452200-1481459400@lechemin.ca
SUMMARY:Célébration du dimanche
DESCRIPTION:
URL:https://lechemin.ca/event/celebration-du-dimanche2/
LOCATION:Le Chemin – Vernon\, 480 Vernon\, Gatineau\, Québec\, J9J 3K5\, Canada
GEO:45.4442315;-75.7998119
X-APPLE-STRUCTURED-LOCATION;VALUE=URI;X-ADDRESS=Le Chemin – Vernon 480 Vernon Gatineau Québec J9J 3K5 Canada;X-APPLE-RADIUS=500;X-TITLE=480 Vernon:geo:-75.7998119,45.4442315
END:VEVENT
END:VCALENDAR