BEGIN:VCALENDAR
VERSION:2.0
PRODID:-//Le Chemin - ECPv6.7.0//NONSGML v1.0//EN
CALSCALE:GREGORIAN
METHOD:PUBLISH
X-ORIGINAL-URL:https://lechemin.ca
X-WR-CALDESC:évènements pour Le Chemin
REFRESH-INTERVAL;VALUE=DURATION:PT1H
X-Robots-Tag:noindex
X-PUBLISHED-TTL:PT1H
BEGIN:VTIMEZONE
TZID:UTC
BEGIN:STANDARD
TZOFFSETFROM:+0000
TZOFFSETTO:+0000
TZNAME:UTC
DTSTART:20160101T000000
END:STANDARD
END:VTIMEZONE
BEGIN:VEVENT
DTSTART;TZID=UTC:20160918T103000
DTEND;TZID=UTC:20160918T130000
DTSTAMP:20260423T154713
CREATED:20160906T220527Z
LAST-MODIFIED:20160907T212128Z
UID:9463-1474194600-1474203600@lechemin.ca
SUMMARY:Le lancement des cellules
DESCRIPTION:Le 18 septembre\, nous lancerons les cellules d’automne! \nÀ la fin de la réunion il restera du temps pour rencontrer les divers leaders et découvrir leurs cellules. \nNous encourageons tout le monde à s’inscrire à au moins une cellule. Participez à la vie de l’église! \nSi vous voulez diriger une cellule\, veuillez vous référer à l’annonce suivante:  info pour les cellules \n 
URL:https://lechemin.ca/event/le-lancement-des-cellules/
LOCATION:Le Chemin – Vernon\, 480 Vernon\, Gatineau\, Québec\, J9J 3K5\, Canada
GEO:45.4442315;-75.7998119
X-APPLE-STRUCTURED-LOCATION;VALUE=URI;X-ADDRESS=Le Chemin – Vernon 480 Vernon Gatineau Québec J9J 3K5 Canada;X-APPLE-RADIUS=500;X-TITLE=480 Vernon:geo:-75.7998119,45.4442315
END:VEVENT
END:VCALENDAR