BEGIN:VCALENDAR
VERSION:2.0
PRODID:-//Le Chemin - ECPv6.7.0//NONSGML v1.0//EN
CALSCALE:GREGORIAN
METHOD:PUBLISH
X-WR-CALNAME:Le Chemin
X-ORIGINAL-URL:https://lechemin.ca
X-WR-CALDESC:évènements pour Le Chemin
REFRESH-INTERVAL;VALUE=DURATION:PT1H
X-Robots-Tag:noindex
X-PUBLISHED-TTL:PT1H
BEGIN:VTIMEZONE
TZID:America/Toronto
BEGIN:DAYLIGHT
TZOFFSETFROM:-0500
TZOFFSETTO:-0400
TZNAME:EDT
DTSTART:20240310T070000
END:DAYLIGHT
BEGIN:STANDARD
TZOFFSETFROM:-0400
TZOFFSETTO:-0500
TZNAME:EST
DTSTART:20241103T060000
END:STANDARD
BEGIN:DAYLIGHT
TZOFFSETFROM:-0500
TZOFFSETTO:-0400
TZNAME:EDT
DTSTART:20250309T070000
END:DAYLIGHT
BEGIN:STANDARD
TZOFFSETFROM:-0400
TZOFFSETTO:-0500
TZNAME:EST
DTSTART:20251102T060000
END:STANDARD
END:VTIMEZONE
BEGIN:VEVENT
DTSTART;TZID=America/Toronto:20250223T103000
DTEND;TZID=America/Toronto:20250223T123000
DTSTAMP:20260421T142450
CREATED:20180508T174807Z
LAST-MODIFIED:20180508T174807Z
UID:18966-1740306600-1740313800@lechemin.ca
SUMMARY:Rencontre du dimanche - Maniwaki
DESCRIPTION:
URL:https://lechemin.ca/event/rencontre-du-dimanche-maniwaki/2025-02-23/
LOCATION:Le Chemin – Maniwaki\, 257\, rue des Oblats\, Maniwaki\, Québec\, J9E 1G6
GEO:46.3796006;-75.9749274
X-APPLE-STRUCTURED-LOCATION;VALUE=URI;X-ADDRESS=Le Chemin – Maniwaki 257 rue des Oblats Maniwaki Québec J9E 1G6;X-APPLE-RADIUS=500;X-TITLE=257\, rue des Oblats:geo:-75.9749274,46.3796006
END:VEVENT
BEGIN:VEVENT
DTSTART;TZID=America/Toronto:20250216T103000
DTEND;TZID=America/Toronto:20250216T123000
DTSTAMP:20260421T142450
CREATED:20180508T174807Z
LAST-MODIFIED:20180508T174807Z
UID:18956-1739701800-1739709000@lechemin.ca
SUMMARY:Rencontre du dimanche - Maniwaki
DESCRIPTION:
URL:https://lechemin.ca/event/rencontre-du-dimanche-maniwaki/2025-02-16/
LOCATION:Le Chemin – Maniwaki\, 257\, rue des Oblats\, Maniwaki\, Québec\, J9E 1G6
GEO:46.3796006;-75.9749274
X-APPLE-STRUCTURED-LOCATION;VALUE=URI;X-ADDRESS=Le Chemin – Maniwaki 257 rue des Oblats Maniwaki Québec J9E 1G6;X-APPLE-RADIUS=500;X-TITLE=257\, rue des Oblats:geo:-75.9749274,46.3796006
END:VEVENT
BEGIN:VEVENT
DTSTART;TZID=America/Toronto:20250209T103000
DTEND;TZID=America/Toronto:20250209T123000
DTSTAMP:20260421T142450
CREATED:20180508T174807Z
LAST-MODIFIED:20180508T174807Z
UID:18949-1739097000-1739104200@lechemin.ca
SUMMARY:Rencontre du dimanche - Maniwaki
DESCRIPTION:
URL:https://lechemin.ca/event/rencontre-du-dimanche-maniwaki/2025-02-09/
LOCATION:Le Chemin – Maniwaki\, 257\, rue des Oblats\, Maniwaki\, Québec\, J9E 1G6
GEO:46.3796006;-75.9749274
X-APPLE-STRUCTURED-LOCATION;VALUE=URI;X-ADDRESS=Le Chemin – Maniwaki 257 rue des Oblats Maniwaki Québec J9E 1G6;X-APPLE-RADIUS=500;X-TITLE=257\, rue des Oblats:geo:-75.9749274,46.3796006
END:VEVENT
BEGIN:VEVENT
DTSTART;TZID=America/Toronto:20250202T103000
DTEND;TZID=America/Toronto:20250202T123000
DTSTAMP:20260421T142450
CREATED:20180508T174807Z
LAST-MODIFIED:20180508T174807Z
UID:18917-1738492200-1738499400@lechemin.ca
SUMMARY:Rencontre du dimanche - Maniwaki
DESCRIPTION:
URL:https://lechemin.ca/event/rencontre-du-dimanche-maniwaki/2025-02-02/
LOCATION:Le Chemin – Maniwaki\, 257\, rue des Oblats\, Maniwaki\, Québec\, J9E 1G6
GEO:46.3796006;-75.9749274
X-APPLE-STRUCTURED-LOCATION;VALUE=URI;X-ADDRESS=Le Chemin – Maniwaki 257 rue des Oblats Maniwaki Québec J9E 1G6;X-APPLE-RADIUS=500;X-TITLE=257\, rue des Oblats:geo:-75.9749274,46.3796006
END:VEVENT
BEGIN:VEVENT
DTSTART;TZID=America/Toronto:20250126T103000
DTEND;TZID=America/Toronto:20250126T123000
DTSTAMP:20260421T142450
CREATED:20180508T174807Z
LAST-MODIFIED:20180508T174807Z
UID:18882-1737887400-1737894600@lechemin.ca
SUMMARY:Rencontre du dimanche - Maniwaki
DESCRIPTION:
URL:https://lechemin.ca/event/rencontre-du-dimanche-maniwaki/2025-01-26/
LOCATION:Le Chemin – Maniwaki\, 257\, rue des Oblats\, Maniwaki\, Québec\, J9E 1G6
GEO:46.3796006;-75.9749274
X-APPLE-STRUCTURED-LOCATION;VALUE=URI;X-ADDRESS=Le Chemin – Maniwaki 257 rue des Oblats Maniwaki Québec J9E 1G6;X-APPLE-RADIUS=500;X-TITLE=257\, rue des Oblats:geo:-75.9749274,46.3796006
END:VEVENT
BEGIN:VEVENT
DTSTART;TZID=America/Toronto:20250119T103000
DTEND;TZID=America/Toronto:20250119T123000
DTSTAMP:20260421T142450
CREATED:20180508T174807Z
LAST-MODIFIED:20180508T174807Z
UID:18853-1737282600-1737289800@lechemin.ca
SUMMARY:Rencontre du dimanche - Maniwaki
DESCRIPTION:
URL:https://lechemin.ca/event/rencontre-du-dimanche-maniwaki/2025-01-19/
LOCATION:Le Chemin – Maniwaki\, 257\, rue des Oblats\, Maniwaki\, Québec\, J9E 1G6
GEO:46.3796006;-75.9749274
X-APPLE-STRUCTURED-LOCATION;VALUE=URI;X-ADDRESS=Le Chemin – Maniwaki 257 rue des Oblats Maniwaki Québec J9E 1G6;X-APPLE-RADIUS=500;X-TITLE=257\, rue des Oblats:geo:-75.9749274,46.3796006
END:VEVENT
BEGIN:VEVENT
DTSTART;TZID=America/Toronto:20250112T103000
DTEND;TZID=America/Toronto:20250112T123000
DTSTAMP:20260421T142450
CREATED:20180508T174807Z
LAST-MODIFIED:20180508T174807Z
UID:18841-1736677800-1736685000@lechemin.ca
SUMMARY:Rencontre du dimanche - Maniwaki
DESCRIPTION:
URL:https://lechemin.ca/event/rencontre-du-dimanche-maniwaki/2025-01-12/
LOCATION:Le Chemin – Maniwaki\, 257\, rue des Oblats\, Maniwaki\, Québec\, J9E 1G6
GEO:46.3796006;-75.9749274
X-APPLE-STRUCTURED-LOCATION;VALUE=URI;X-ADDRESS=Le Chemin – Maniwaki 257 rue des Oblats Maniwaki Québec J9E 1G6;X-APPLE-RADIUS=500;X-TITLE=257\, rue des Oblats:geo:-75.9749274,46.3796006
END:VEVENT
BEGIN:VEVENT
DTSTART;TZID=America/Toronto:20250105T103000
DTEND;TZID=America/Toronto:20250105T123000
DTSTAMP:20260421T142450
CREATED:20180508T174807Z
LAST-MODIFIED:20180508T174807Z
UID:18834-1736073000-1736080200@lechemin.ca
SUMMARY:Rencontre du dimanche - Maniwaki
DESCRIPTION:
URL:https://lechemin.ca/event/rencontre-du-dimanche-maniwaki/2025-01-05/
LOCATION:Le Chemin – Maniwaki\, 257\, rue des Oblats\, Maniwaki\, Québec\, J9E 1G6
GEO:46.3796006;-75.9749274
X-APPLE-STRUCTURED-LOCATION;VALUE=URI;X-ADDRESS=Le Chemin – Maniwaki 257 rue des Oblats Maniwaki Québec J9E 1G6;X-APPLE-RADIUS=500;X-TITLE=257\, rue des Oblats:geo:-75.9749274,46.3796006
END:VEVENT
BEGIN:VEVENT
DTSTART;TZID=America/Toronto:20241229T103000
DTEND;TZID=America/Toronto:20241229T123000
DTSTAMP:20260421T142450
CREATED:20180508T174807Z
LAST-MODIFIED:20180508T174807Z
UID:18823-1735468200-1735475400@lechemin.ca
SUMMARY:Rencontre du dimanche - Maniwaki
DESCRIPTION:
URL:https://lechemin.ca/event/rencontre-du-dimanche-maniwaki/2024-12-29/
LOCATION:Le Chemin – Maniwaki\, 257\, rue des Oblats\, Maniwaki\, Québec\, J9E 1G6
GEO:46.3796006;-75.9749274
X-APPLE-STRUCTURED-LOCATION;VALUE=URI;X-ADDRESS=Le Chemin – Maniwaki 257 rue des Oblats Maniwaki Québec J9E 1G6;X-APPLE-RADIUS=500;X-TITLE=257\, rue des Oblats:geo:-75.9749274,46.3796006
END:VEVENT
BEGIN:VEVENT
DTSTART;TZID=America/Toronto:20241222T103000
DTEND;TZID=America/Toronto:20241222T123000
DTSTAMP:20260421T142450
CREATED:20180508T174807Z
LAST-MODIFIED:20180508T174807Z
UID:18816-1734863400-1734870600@lechemin.ca
SUMMARY:Rencontre du dimanche - Maniwaki
DESCRIPTION:
URL:https://lechemin.ca/event/rencontre-du-dimanche-maniwaki/2024-12-22/
LOCATION:Le Chemin – Maniwaki\, 257\, rue des Oblats\, Maniwaki\, Québec\, J9E 1G6
GEO:46.3796006;-75.9749274
X-APPLE-STRUCTURED-LOCATION;VALUE=URI;X-ADDRESS=Le Chemin – Maniwaki 257 rue des Oblats Maniwaki Québec J9E 1G6;X-APPLE-RADIUS=500;X-TITLE=257\, rue des Oblats:geo:-75.9749274,46.3796006
END:VEVENT
BEGIN:VEVENT
DTSTART;TZID=America/Toronto:20241215T103000
DTEND;TZID=America/Toronto:20241215T123000
DTSTAMP:20260421T142450
CREATED:20180508T174807Z
LAST-MODIFIED:20180508T174807Z
UID:18809-1734258600-1734265800@lechemin.ca
SUMMARY:Rencontre du dimanche - Maniwaki
DESCRIPTION:
URL:https://lechemin.ca/event/rencontre-du-dimanche-maniwaki/2024-12-15/
LOCATION:Le Chemin – Maniwaki\, 257\, rue des Oblats\, Maniwaki\, Québec\, J9E 1G6
GEO:46.3796006;-75.9749274
X-APPLE-STRUCTURED-LOCATION;VALUE=URI;X-ADDRESS=Le Chemin – Maniwaki 257 rue des Oblats Maniwaki Québec J9E 1G6;X-APPLE-RADIUS=500;X-TITLE=257\, rue des Oblats:geo:-75.9749274,46.3796006
END:VEVENT
BEGIN:VEVENT
DTSTART;TZID=America/Toronto:20241208T103000
DTEND;TZID=America/Toronto:20241208T123000
DTSTAMP:20260421T142450
CREATED:20180508T174807Z
LAST-MODIFIED:20180508T174807Z
UID:18785-1733653800-1733661000@lechemin.ca
SUMMARY:Rencontre du dimanche - Maniwaki
DESCRIPTION:
URL:https://lechemin.ca/event/rencontre-du-dimanche-maniwaki/2024-12-08/
LOCATION:Le Chemin – Maniwaki\, 257\, rue des Oblats\, Maniwaki\, Québec\, J9E 1G6
GEO:46.3796006;-75.9749274
X-APPLE-STRUCTURED-LOCATION;VALUE=URI;X-ADDRESS=Le Chemin – Maniwaki 257 rue des Oblats Maniwaki Québec J9E 1G6;X-APPLE-RADIUS=500;X-TITLE=257\, rue des Oblats:geo:-75.9749274,46.3796006
END:VEVENT
BEGIN:VEVENT
DTSTART;TZID=America/Toronto:20241201T103000
DTEND;TZID=America/Toronto:20241201T123000
DTSTAMP:20260421T142450
CREATED:20180508T174807Z
LAST-MODIFIED:20180508T174807Z
UID:18777-1733049000-1733056200@lechemin.ca
SUMMARY:Rencontre du dimanche - Maniwaki
DESCRIPTION:
URL:https://lechemin.ca/event/rencontre-du-dimanche-maniwaki/2024-12-01/
LOCATION:Le Chemin – Maniwaki\, 257\, rue des Oblats\, Maniwaki\, Québec\, J9E 1G6
GEO:46.3796006;-75.9749274
X-APPLE-STRUCTURED-LOCATION;VALUE=URI;X-ADDRESS=Le Chemin – Maniwaki 257 rue des Oblats Maniwaki Québec J9E 1G6;X-APPLE-RADIUS=500;X-TITLE=257\, rue des Oblats:geo:-75.9749274,46.3796006
END:VEVENT
BEGIN:VEVENT
DTSTART;TZID=America/Toronto:20241124T103000
DTEND;TZID=America/Toronto:20241124T123000
DTSTAMP:20260421T142450
CREATED:20180508T174807Z
LAST-MODIFIED:20180508T174807Z
UID:18770-1732444200-1732451400@lechemin.ca
SUMMARY:Rencontre du dimanche - Maniwaki
DESCRIPTION:
URL:https://lechemin.ca/event/rencontre-du-dimanche-maniwaki/2024-11-24/
LOCATION:Le Chemin – Maniwaki\, 257\, rue des Oblats\, Maniwaki\, Québec\, J9E 1G6
GEO:46.3796006;-75.9749274
X-APPLE-STRUCTURED-LOCATION;VALUE=URI;X-ADDRESS=Le Chemin – Maniwaki 257 rue des Oblats Maniwaki Québec J9E 1G6;X-APPLE-RADIUS=500;X-TITLE=257\, rue des Oblats:geo:-75.9749274,46.3796006
END:VEVENT
BEGIN:VEVENT
DTSTART;TZID=America/Toronto:20241117T103000
DTEND;TZID=America/Toronto:20241117T123000
DTSTAMP:20260421T142450
CREATED:20180508T174807Z
LAST-MODIFIED:20180508T174807Z
UID:18762-1731839400-1731846600@lechemin.ca
SUMMARY:Rencontre du dimanche - Maniwaki
DESCRIPTION:
URL:https://lechemin.ca/event/rencontre-du-dimanche-maniwaki/2024-11-17/
LOCATION:Le Chemin – Maniwaki\, 257\, rue des Oblats\, Maniwaki\, Québec\, J9E 1G6
GEO:46.3796006;-75.9749274
X-APPLE-STRUCTURED-LOCATION;VALUE=URI;X-ADDRESS=Le Chemin – Maniwaki 257 rue des Oblats Maniwaki Québec J9E 1G6;X-APPLE-RADIUS=500;X-TITLE=257\, rue des Oblats:geo:-75.9749274,46.3796006
END:VEVENT
BEGIN:VEVENT
DTSTART;TZID=America/Toronto:20241110T103000
DTEND;TZID=America/Toronto:20241110T123000
DTSTAMP:20260421T142450
CREATED:20180508T174807Z
LAST-MODIFIED:20180508T174807Z
UID:18754-1731234600-1731241800@lechemin.ca
SUMMARY:Rencontre du dimanche - Maniwaki
DESCRIPTION:
URL:https://lechemin.ca/event/rencontre-du-dimanche-maniwaki/2024-11-10/
LOCATION:Le Chemin – Maniwaki\, 257\, rue des Oblats\, Maniwaki\, Québec\, J9E 1G6
GEO:46.3796006;-75.9749274
X-APPLE-STRUCTURED-LOCATION;VALUE=URI;X-ADDRESS=Le Chemin – Maniwaki 257 rue des Oblats Maniwaki Québec J9E 1G6;X-APPLE-RADIUS=500;X-TITLE=257\, rue des Oblats:geo:-75.9749274,46.3796006
END:VEVENT
BEGIN:VEVENT
DTSTART;TZID=America/Toronto:20241103T103000
DTEND;TZID=America/Toronto:20241103T123000
DTSTAMP:20260421T142450
CREATED:20180508T174807Z
LAST-MODIFIED:20180508T174807Z
UID:18745-1730629800-1730637000@lechemin.ca
SUMMARY:Rencontre du dimanche - Maniwaki
DESCRIPTION:
URL:https://lechemin.ca/event/rencontre-du-dimanche-maniwaki/2024-11-03/
LOCATION:Le Chemin – Maniwaki\, 257\, rue des Oblats\, Maniwaki\, Québec\, J9E 1G6
GEO:46.3796006;-75.9749274
X-APPLE-STRUCTURED-LOCATION;VALUE=URI;X-ADDRESS=Le Chemin – Maniwaki 257 rue des Oblats Maniwaki Québec J9E 1G6;X-APPLE-RADIUS=500;X-TITLE=257\, rue des Oblats:geo:-75.9749274,46.3796006
END:VEVENT
BEGIN:VEVENT
DTSTART;TZID=America/Toronto:20241027T103000
DTEND;TZID=America/Toronto:20241027T123000
DTSTAMP:20260421T142450
CREATED:20180508T174807Z
LAST-MODIFIED:20180508T174807Z
UID:18737-1730025000-1730032200@lechemin.ca
SUMMARY:Rencontre du dimanche - Maniwaki
DESCRIPTION:
URL:https://lechemin.ca/event/rencontre-du-dimanche-maniwaki/2024-10-27/
LOCATION:Le Chemin – Maniwaki\, 257\, rue des Oblats\, Maniwaki\, Québec\, J9E 1G6
GEO:46.3796006;-75.9749274
X-APPLE-STRUCTURED-LOCATION;VALUE=URI;X-ADDRESS=Le Chemin – Maniwaki 257 rue des Oblats Maniwaki Québec J9E 1G6;X-APPLE-RADIUS=500;X-TITLE=257\, rue des Oblats:geo:-75.9749274,46.3796006
END:VEVENT
BEGIN:VEVENT
DTSTART;TZID=America/Toronto:20241020T103000
DTEND;TZID=America/Toronto:20241020T123000
DTSTAMP:20260421T142450
CREATED:20180508T174807Z
LAST-MODIFIED:20180508T174807Z
UID:18730-1729420200-1729427400@lechemin.ca
SUMMARY:Rencontre du dimanche - Maniwaki
DESCRIPTION:
URL:https://lechemin.ca/event/rencontre-du-dimanche-maniwaki/2024-10-20/
LOCATION:Le Chemin – Maniwaki\, 257\, rue des Oblats\, Maniwaki\, Québec\, J9E 1G6
GEO:46.3796006;-75.9749274
X-APPLE-STRUCTURED-LOCATION;VALUE=URI;X-ADDRESS=Le Chemin – Maniwaki 257 rue des Oblats Maniwaki Québec J9E 1G6;X-APPLE-RADIUS=500;X-TITLE=257\, rue des Oblats:geo:-75.9749274,46.3796006
END:VEVENT
BEGIN:VEVENT
DTSTART;TZID=America/Toronto:20241013T103000
DTEND;TZID=America/Toronto:20241013T123000
DTSTAMP:20260421T142450
CREATED:20180508T174807Z
LAST-MODIFIED:20180508T174807Z
UID:18713-1728815400-1728822600@lechemin.ca
SUMMARY:Rencontre du dimanche - Maniwaki
DESCRIPTION:
URL:https://lechemin.ca/event/rencontre-du-dimanche-maniwaki/2024-10-13/
LOCATION:Le Chemin – Maniwaki\, 257\, rue des Oblats\, Maniwaki\, Québec\, J9E 1G6
GEO:46.3796006;-75.9749274
X-APPLE-STRUCTURED-LOCATION;VALUE=URI;X-ADDRESS=Le Chemin – Maniwaki 257 rue des Oblats Maniwaki Québec J9E 1G6;X-APPLE-RADIUS=500;X-TITLE=257\, rue des Oblats:geo:-75.9749274,46.3796006
END:VEVENT
BEGIN:VEVENT
DTSTART;TZID=America/Toronto:20241006T103000
DTEND;TZID=America/Toronto:20241006T123000
DTSTAMP:20260421T142450
CREATED:20180508T174807Z
LAST-MODIFIED:20180508T174807Z
UID:18704-1728210600-1728217800@lechemin.ca
SUMMARY:Rencontre du dimanche - Maniwaki
DESCRIPTION:
URL:https://lechemin.ca/event/rencontre-du-dimanche-maniwaki/2024-10-06/
LOCATION:Le Chemin – Maniwaki\, 257\, rue des Oblats\, Maniwaki\, Québec\, J9E 1G6
GEO:46.3796006;-75.9749274
X-APPLE-STRUCTURED-LOCATION;VALUE=URI;X-ADDRESS=Le Chemin – Maniwaki 257 rue des Oblats Maniwaki Québec J9E 1G6;X-APPLE-RADIUS=500;X-TITLE=257\, rue des Oblats:geo:-75.9749274,46.3796006
END:VEVENT
BEGIN:VEVENT
DTSTART;TZID=America/Toronto:20240929T103000
DTEND;TZID=America/Toronto:20240929T123000
DTSTAMP:20260421T142450
CREATED:20180508T174807Z
LAST-MODIFIED:20180508T174807Z
UID:18694-1727605800-1727613000@lechemin.ca
SUMMARY:Rencontre du dimanche - Maniwaki
DESCRIPTION:
URL:https://lechemin.ca/event/rencontre-du-dimanche-maniwaki/2024-09-29/
LOCATION:Le Chemin – Maniwaki\, 257\, rue des Oblats\, Maniwaki\, Québec\, J9E 1G6
GEO:46.3796006;-75.9749274
X-APPLE-STRUCTURED-LOCATION;VALUE=URI;X-ADDRESS=Le Chemin – Maniwaki 257 rue des Oblats Maniwaki Québec J9E 1G6;X-APPLE-RADIUS=500;X-TITLE=257\, rue des Oblats:geo:-75.9749274,46.3796006
END:VEVENT
BEGIN:VEVENT
DTSTART;TZID=America/Toronto:20240922T103000
DTEND;TZID=America/Toronto:20240922T123000
DTSTAMP:20260421T142450
CREATED:20180508T174807Z
LAST-MODIFIED:20180508T174807Z
UID:18678-1727001000-1727008200@lechemin.ca
SUMMARY:Rencontre du dimanche - Maniwaki
DESCRIPTION:
URL:https://lechemin.ca/event/rencontre-du-dimanche-maniwaki/2024-09-22/
LOCATION:Le Chemin – Maniwaki\, 257\, rue des Oblats\, Maniwaki\, Québec\, J9E 1G6
GEO:46.3796006;-75.9749274
X-APPLE-STRUCTURED-LOCATION;VALUE=URI;X-ADDRESS=Le Chemin – Maniwaki 257 rue des Oblats Maniwaki Québec J9E 1G6;X-APPLE-RADIUS=500;X-TITLE=257\, rue des Oblats:geo:-75.9749274,46.3796006
END:VEVENT
BEGIN:VEVENT
DTSTART;TZID=America/Toronto:20240915T103000
DTEND;TZID=America/Toronto:20240915T123000
DTSTAMP:20260421T142450
CREATED:20180508T174807Z
LAST-MODIFIED:20180508T174807Z
UID:18664-1726396200-1726403400@lechemin.ca
SUMMARY:Rencontre du dimanche - Maniwaki
DESCRIPTION:
URL:https://lechemin.ca/event/rencontre-du-dimanche-maniwaki/2024-09-15/
LOCATION:Le Chemin – Maniwaki\, 257\, rue des Oblats\, Maniwaki\, Québec\, J9E 1G6
GEO:46.3796006;-75.9749274
X-APPLE-STRUCTURED-LOCATION;VALUE=URI;X-ADDRESS=Le Chemin – Maniwaki 257 rue des Oblats Maniwaki Québec J9E 1G6;X-APPLE-RADIUS=500;X-TITLE=257\, rue des Oblats:geo:-75.9749274,46.3796006
END:VEVENT
BEGIN:VEVENT
DTSTART;TZID=America/Toronto:20240908T103000
DTEND;TZID=America/Toronto:20240908T123000
DTSTAMP:20260421T142450
CREATED:20180508T174807Z
LAST-MODIFIED:20180508T174807Z
UID:18655-1725791400-1725798600@lechemin.ca
SUMMARY:Rencontre du dimanche - Maniwaki
DESCRIPTION:
URL:https://lechemin.ca/event/rencontre-du-dimanche-maniwaki/2024-09-08/
LOCATION:Le Chemin – Maniwaki\, 257\, rue des Oblats\, Maniwaki\, Québec\, J9E 1G6
GEO:46.3796006;-75.9749274
X-APPLE-STRUCTURED-LOCATION;VALUE=URI;X-ADDRESS=Le Chemin – Maniwaki 257 rue des Oblats Maniwaki Québec J9E 1G6;X-APPLE-RADIUS=500;X-TITLE=257\, rue des Oblats:geo:-75.9749274,46.3796006
END:VEVENT
BEGIN:VEVENT
DTSTART;TZID=America/Toronto:20240901T103000
DTEND;TZID=America/Toronto:20240901T123000
DTSTAMP:20260421T142450
CREATED:20180508T174807Z
LAST-MODIFIED:20180508T174807Z
UID:18647-1725186600-1725193800@lechemin.ca
SUMMARY:Rencontre du dimanche - Maniwaki
DESCRIPTION:
URL:https://lechemin.ca/event/rencontre-du-dimanche-maniwaki/2024-09-01/
LOCATION:Le Chemin – Maniwaki\, 257\, rue des Oblats\, Maniwaki\, Québec\, J9E 1G6
GEO:46.3796006;-75.9749274
X-APPLE-STRUCTURED-LOCATION;VALUE=URI;X-ADDRESS=Le Chemin – Maniwaki 257 rue des Oblats Maniwaki Québec J9E 1G6;X-APPLE-RADIUS=500;X-TITLE=257\, rue des Oblats:geo:-75.9749274,46.3796006
END:VEVENT
BEGIN:VEVENT
DTSTART;TZID=America/Toronto:20240825T103000
DTEND;TZID=America/Toronto:20240825T123000
DTSTAMP:20260421T142450
CREATED:20180508T174807Z
LAST-MODIFIED:20180508T174807Z
UID:18640-1724581800-1724589000@lechemin.ca
SUMMARY:Rencontre du dimanche - Maniwaki
DESCRIPTION:
URL:https://lechemin.ca/event/rencontre-du-dimanche-maniwaki/2024-08-25/
LOCATION:Le Chemin – Maniwaki\, 257\, rue des Oblats\, Maniwaki\, Québec\, J9E 1G6
GEO:46.3796006;-75.9749274
X-APPLE-STRUCTURED-LOCATION;VALUE=URI;X-ADDRESS=Le Chemin – Maniwaki 257 rue des Oblats Maniwaki Québec J9E 1G6;X-APPLE-RADIUS=500;X-TITLE=257\, rue des Oblats:geo:-75.9749274,46.3796006
END:VEVENT
BEGIN:VEVENT
DTSTART;TZID=America/Toronto:20240818T103000
DTEND;TZID=America/Toronto:20240818T123000
DTSTAMP:20260421T142450
CREATED:20180508T174807Z
LAST-MODIFIED:20180508T174807Z
UID:18631-1723977000-1723984200@lechemin.ca
SUMMARY:Rencontre du dimanche - Maniwaki
DESCRIPTION:
URL:https://lechemin.ca/event/rencontre-du-dimanche-maniwaki/2024-08-18/
LOCATION:Le Chemin – Maniwaki\, 257\, rue des Oblats\, Maniwaki\, Québec\, J9E 1G6
GEO:46.3796006;-75.9749274
X-APPLE-STRUCTURED-LOCATION;VALUE=URI;X-ADDRESS=Le Chemin – Maniwaki 257 rue des Oblats Maniwaki Québec J9E 1G6;X-APPLE-RADIUS=500;X-TITLE=257\, rue des Oblats:geo:-75.9749274,46.3796006
END:VEVENT
BEGIN:VEVENT
DTSTART;TZID=America/Toronto:20240811T103000
DTEND;TZID=America/Toronto:20240811T123000
DTSTAMP:20260421T142450
CREATED:20180508T174807Z
LAST-MODIFIED:20180508T174807Z
UID:18623-1723372200-1723379400@lechemin.ca
SUMMARY:Rencontre du dimanche - Maniwaki
DESCRIPTION:
URL:https://lechemin.ca/event/rencontre-du-dimanche-maniwaki/2024-08-11/
LOCATION:Le Chemin – Maniwaki\, 257\, rue des Oblats\, Maniwaki\, Québec\, J9E 1G6
GEO:46.3796006;-75.9749274
X-APPLE-STRUCTURED-LOCATION;VALUE=URI;X-ADDRESS=Le Chemin – Maniwaki 257 rue des Oblats Maniwaki Québec J9E 1G6;X-APPLE-RADIUS=500;X-TITLE=257\, rue des Oblats:geo:-75.9749274,46.3796006
END:VEVENT
BEGIN:VEVENT
DTSTART;TZID=America/Toronto:20240804T103000
DTEND;TZID=America/Toronto:20240804T123000
DTSTAMP:20260421T142450
CREATED:20180508T174807Z
LAST-MODIFIED:20180508T174807Z
UID:18616-1722767400-1722774600@lechemin.ca
SUMMARY:Rencontre du dimanche - Maniwaki
DESCRIPTION:
URL:https://lechemin.ca/event/rencontre-du-dimanche-maniwaki/2024-08-04/
LOCATION:Le Chemin – Maniwaki\, 257\, rue des Oblats\, Maniwaki\, Québec\, J9E 1G6
GEO:46.3796006;-75.9749274
X-APPLE-STRUCTURED-LOCATION;VALUE=URI;X-ADDRESS=Le Chemin – Maniwaki 257 rue des Oblats Maniwaki Québec J9E 1G6;X-APPLE-RADIUS=500;X-TITLE=257\, rue des Oblats:geo:-75.9749274,46.3796006
END:VEVENT
END:VCALENDAR