BEGIN:VCALENDAR
VERSION:2.0
PRODID:-//Le Chemin - ECPv6.7.0//NONSGML v1.0//EN
CALSCALE:GREGORIAN
METHOD:PUBLISH
X-WR-CALNAME:Le Chemin
X-ORIGINAL-URL:https://lechemin.ca
X-WR-CALDESC:évènements pour Le Chemin
REFRESH-INTERVAL;VALUE=DURATION:PT1H
X-Robots-Tag:noindex
X-PUBLISHED-TTL:PT1H
BEGIN:VTIMEZONE
TZID:America/Toronto
BEGIN:DAYLIGHT
TZOFFSETFROM:-0500
TZOFFSETTO:-0400
TZNAME:EDT
DTSTART:20270314T070000
END:DAYLIGHT
BEGIN:STANDARD
TZOFFSETFROM:-0400
TZOFFSETTO:-0500
TZNAME:EST
DTSTART:20271107T060000
END:STANDARD
END:VTIMEZONE
BEGIN:VEVENT
DTSTART;TZID=America/Toronto:20270411T103000
DTEND;TZID=America/Toronto:20270411T123000
DTSTAMP:20260419T135532
CREATED:20180508T174807Z
LAST-MODIFIED:20180508T174807Z
UID:20302-1807439400-1807446600@lechemin.ca
SUMMARY:Rencontre du dimanche - Maniwaki
DESCRIPTION:
URL:https://lechemin.ca/event/rencontre-du-dimanche-maniwaki/2027-04-11/
LOCATION:Le Chemin – Maniwaki\, 257\, rue des Oblats\, Maniwaki\, Québec\, J9E 1G6
GEO:46.3796006;-75.9749274
X-APPLE-STRUCTURED-LOCATION;VALUE=URI;X-ADDRESS=Le Chemin – Maniwaki 257 rue des Oblats Maniwaki Québec J9E 1G6;X-APPLE-RADIUS=500;X-TITLE=257\, rue des Oblats:geo:-75.9749274,46.3796006
END:VEVENT
BEGIN:VEVENT
DTSTART;TZID=America/Toronto:20270418T103000
DTEND;TZID=America/Toronto:20270418T123000
DTSTAMP:20260419T135532
CREATED:20180508T174807Z
LAST-MODIFIED:20180508T174807Z
UID:20309-1808044200-1808051400@lechemin.ca
SUMMARY:Rencontre du dimanche - Maniwaki
DESCRIPTION:
URL:https://lechemin.ca/event/rencontre-du-dimanche-maniwaki/2027-04-18/
LOCATION:Le Chemin – Maniwaki\, 257\, rue des Oblats\, Maniwaki\, Québec\, J9E 1G6
GEO:46.3796006;-75.9749274
X-APPLE-STRUCTURED-LOCATION;VALUE=URI;X-ADDRESS=Le Chemin – Maniwaki 257 rue des Oblats Maniwaki Québec J9E 1G6;X-APPLE-RADIUS=500;X-TITLE=257\, rue des Oblats:geo:-75.9749274,46.3796006
END:VEVENT
BEGIN:VEVENT
DTSTART;TZID=America/Toronto:20270425T103000
DTEND;TZID=America/Toronto:20270425T123000
DTSTAMP:20260419T135532
CREATED:20180508T174807Z
LAST-MODIFIED:20180508T174807Z
UID:20318-1808649000-1808656200@lechemin.ca
SUMMARY:Rencontre du dimanche - Maniwaki
DESCRIPTION:
URL:https://lechemin.ca/event/rencontre-du-dimanche-maniwaki/2027-04-25/
LOCATION:Le Chemin – Maniwaki\, 257\, rue des Oblats\, Maniwaki\, Québec\, J9E 1G6
GEO:46.3796006;-75.9749274
X-APPLE-STRUCTURED-LOCATION;VALUE=URI;X-ADDRESS=Le Chemin – Maniwaki 257 rue des Oblats Maniwaki Québec J9E 1G6;X-APPLE-RADIUS=500;X-TITLE=257\, rue des Oblats:geo:-75.9749274,46.3796006
END:VEVENT
BEGIN:VEVENT
DTSTART;TZID=America/Toronto:20270502T103000
DTEND;TZID=America/Toronto:20270502T123000
DTSTAMP:20260419T135532
CREATED:20180508T174807Z
LAST-MODIFIED:20180508T174807Z
UID:20326-1809253800-1809261000@lechemin.ca
SUMMARY:Rencontre du dimanche - Maniwaki
DESCRIPTION:
URL:https://lechemin.ca/event/rencontre-du-dimanche-maniwaki/2027-05-02/
LOCATION:Le Chemin – Maniwaki\, 257\, rue des Oblats\, Maniwaki\, Québec\, J9E 1G6
GEO:46.3796006;-75.9749274
X-APPLE-STRUCTURED-LOCATION;VALUE=URI;X-ADDRESS=Le Chemin – Maniwaki 257 rue des Oblats Maniwaki Québec J9E 1G6;X-APPLE-RADIUS=500;X-TITLE=257\, rue des Oblats:geo:-75.9749274,46.3796006
END:VEVENT
BEGIN:VEVENT
DTSTART;TZID=America/Toronto:20270509T103000
DTEND;TZID=America/Toronto:20270509T123000
DTSTAMP:20260419T135532
CREATED:20180508T174807Z
LAST-MODIFIED:20180508T174807Z
UID:20335-1809858600-1809865800@lechemin.ca
SUMMARY:Rencontre du dimanche - Maniwaki
DESCRIPTION:
URL:https://lechemin.ca/event/rencontre-du-dimanche-maniwaki/2027-05-09/
LOCATION:Le Chemin – Maniwaki\, 257\, rue des Oblats\, Maniwaki\, Québec\, J9E 1G6
GEO:46.3796006;-75.9749274
X-APPLE-STRUCTURED-LOCATION;VALUE=URI;X-ADDRESS=Le Chemin – Maniwaki 257 rue des Oblats Maniwaki Québec J9E 1G6;X-APPLE-RADIUS=500;X-TITLE=257\, rue des Oblats:geo:-75.9749274,46.3796006
END:VEVENT
BEGIN:VEVENT
DTSTART;TZID=America/Toronto:20270516T103000
DTEND;TZID=America/Toronto:20270516T123000
DTSTAMP:20260419T135532
CREATED:20180508T174807Z
LAST-MODIFIED:20180508T174807Z
UID:20345-1810463400-1810470600@lechemin.ca
SUMMARY:Rencontre du dimanche - Maniwaki
DESCRIPTION:
URL:https://lechemin.ca/event/rencontre-du-dimanche-maniwaki/2027-05-16/
LOCATION:Le Chemin – Maniwaki\, 257\, rue des Oblats\, Maniwaki\, Québec\, J9E 1G6
GEO:46.3796006;-75.9749274
X-APPLE-STRUCTURED-LOCATION;VALUE=URI;X-ADDRESS=Le Chemin – Maniwaki 257 rue des Oblats Maniwaki Québec J9E 1G6;X-APPLE-RADIUS=500;X-TITLE=257\, rue des Oblats:geo:-75.9749274,46.3796006
END:VEVENT
BEGIN:VEVENT
DTSTART;TZID=America/Toronto:20270523T103000
DTEND;TZID=America/Toronto:20270523T123000
DTSTAMP:20260419T135532
CREATED:20180508T174807Z
LAST-MODIFIED:20180508T174807Z
UID:20352-1811068200-1811075400@lechemin.ca
SUMMARY:Rencontre du dimanche - Maniwaki
DESCRIPTION:
URL:https://lechemin.ca/event/rencontre-du-dimanche-maniwaki/2027-05-23/
LOCATION:Le Chemin – Maniwaki\, 257\, rue des Oblats\, Maniwaki\, Québec\, J9E 1G6
GEO:46.3796006;-75.9749274
X-APPLE-STRUCTURED-LOCATION;VALUE=URI;X-ADDRESS=Le Chemin – Maniwaki 257 rue des Oblats Maniwaki Québec J9E 1G6;X-APPLE-RADIUS=500;X-TITLE=257\, rue des Oblats:geo:-75.9749274,46.3796006
END:VEVENT
BEGIN:VEVENT
DTSTART;TZID=America/Toronto:20270530T103000
DTEND;TZID=America/Toronto:20270530T123000
DTSTAMP:20260419T135532
CREATED:20180508T174807Z
LAST-MODIFIED:20180508T174807Z
UID:20362-1811673000-1811680200@lechemin.ca
SUMMARY:Rencontre du dimanche - Maniwaki
DESCRIPTION:
URL:https://lechemin.ca/event/rencontre-du-dimanche-maniwaki/2027-05-30/
LOCATION:Le Chemin – Maniwaki\, 257\, rue des Oblats\, Maniwaki\, Québec\, J9E 1G6
GEO:46.3796006;-75.9749274
X-APPLE-STRUCTURED-LOCATION;VALUE=URI;X-ADDRESS=Le Chemin – Maniwaki 257 rue des Oblats Maniwaki Québec J9E 1G6;X-APPLE-RADIUS=500;X-TITLE=257\, rue des Oblats:geo:-75.9749274,46.3796006
END:VEVENT
BEGIN:VEVENT
DTSTART;TZID=America/Toronto:20270606T103000
DTEND;TZID=America/Toronto:20270606T123000
DTSTAMP:20260419T135532
CREATED:20180508T174807Z
LAST-MODIFIED:20180508T174807Z
UID:20369-1812277800-1812285000@lechemin.ca
SUMMARY:Rencontre du dimanche - Maniwaki
DESCRIPTION:
URL:https://lechemin.ca/event/rencontre-du-dimanche-maniwaki/2027-06-06/
LOCATION:Le Chemin – Maniwaki\, 257\, rue des Oblats\, Maniwaki\, Québec\, J9E 1G6
GEO:46.3796006;-75.9749274
X-APPLE-STRUCTURED-LOCATION;VALUE=URI;X-ADDRESS=Le Chemin – Maniwaki 257 rue des Oblats Maniwaki Québec J9E 1G6;X-APPLE-RADIUS=500;X-TITLE=257\, rue des Oblats:geo:-75.9749274,46.3796006
END:VEVENT
BEGIN:VEVENT
DTSTART;TZID=America/Toronto:20270613T103000
DTEND;TZID=America/Toronto:20270613T123000
DTSTAMP:20260419T135532
CREATED:20180508T174807Z
LAST-MODIFIED:20180508T174807Z
UID:20377-1812882600-1812889800@lechemin.ca
SUMMARY:Rencontre du dimanche - Maniwaki
DESCRIPTION:
URL:https://lechemin.ca/event/rencontre-du-dimanche-maniwaki/2027-06-13/
LOCATION:Le Chemin – Maniwaki\, 257\, rue des Oblats\, Maniwaki\, Québec\, J9E 1G6
GEO:46.3796006;-75.9749274
X-APPLE-STRUCTURED-LOCATION;VALUE=URI;X-ADDRESS=Le Chemin – Maniwaki 257 rue des Oblats Maniwaki Québec J9E 1G6;X-APPLE-RADIUS=500;X-TITLE=257\, rue des Oblats:geo:-75.9749274,46.3796006
END:VEVENT
BEGIN:VEVENT
DTSTART;TZID=America/Toronto:20270620T103000
DTEND;TZID=America/Toronto:20270620T123000
DTSTAMP:20260419T135532
CREATED:20180508T174807Z
LAST-MODIFIED:20180508T174807Z
UID:20384-1813487400-1813494600@lechemin.ca
SUMMARY:Rencontre du dimanche - Maniwaki
DESCRIPTION:
URL:https://lechemin.ca/event/rencontre-du-dimanche-maniwaki/2027-06-20/
LOCATION:Le Chemin – Maniwaki\, 257\, rue des Oblats\, Maniwaki\, Québec\, J9E 1G6
GEO:46.3796006;-75.9749274
X-APPLE-STRUCTURED-LOCATION;VALUE=URI;X-ADDRESS=Le Chemin – Maniwaki 257 rue des Oblats Maniwaki Québec J9E 1G6;X-APPLE-RADIUS=500;X-TITLE=257\, rue des Oblats:geo:-75.9749274,46.3796006
END:VEVENT
BEGIN:VEVENT
DTSTART;TZID=America/Toronto:20270627T103000
DTEND;TZID=America/Toronto:20270627T123000
DTSTAMP:20260419T135532
CREATED:20180508T174807Z
LAST-MODIFIED:20180508T174807Z
UID:20393-1814092200-1814099400@lechemin.ca
SUMMARY:Rencontre du dimanche - Maniwaki
DESCRIPTION:
URL:https://lechemin.ca/event/rencontre-du-dimanche-maniwaki/2027-06-27/
LOCATION:Le Chemin – Maniwaki\, 257\, rue des Oblats\, Maniwaki\, Québec\, J9E 1G6
GEO:46.3796006;-75.9749274
X-APPLE-STRUCTURED-LOCATION;VALUE=URI;X-ADDRESS=Le Chemin – Maniwaki 257 rue des Oblats Maniwaki Québec J9E 1G6;X-APPLE-RADIUS=500;X-TITLE=257\, rue des Oblats:geo:-75.9749274,46.3796006
END:VEVENT
BEGIN:VEVENT
DTSTART;TZID=America/Toronto:20270704T103000
DTEND;TZID=America/Toronto:20270704T123000
DTSTAMP:20260419T135532
CREATED:20180508T174807Z
LAST-MODIFIED:20180508T174807Z
UID:20401-1814697000-1814704200@lechemin.ca
SUMMARY:Rencontre du dimanche - Maniwaki
DESCRIPTION:
URL:https://lechemin.ca/event/rencontre-du-dimanche-maniwaki/2027-07-04/
LOCATION:Le Chemin – Maniwaki\, 257\, rue des Oblats\, Maniwaki\, Québec\, J9E 1G6
GEO:46.3796006;-75.9749274
X-APPLE-STRUCTURED-LOCATION;VALUE=URI;X-ADDRESS=Le Chemin – Maniwaki 257 rue des Oblats Maniwaki Québec J9E 1G6;X-APPLE-RADIUS=500;X-TITLE=257\, rue des Oblats:geo:-75.9749274,46.3796006
END:VEVENT
BEGIN:VEVENT
DTSTART;TZID=America/Toronto:20270711T103000
DTEND;TZID=America/Toronto:20270711T123000
DTSTAMP:20260419T135532
CREATED:20180508T174807Z
LAST-MODIFIED:20180508T174807Z
UID:20408-1815301800-1815309000@lechemin.ca
SUMMARY:Rencontre du dimanche - Maniwaki
DESCRIPTION:
URL:https://lechemin.ca/event/rencontre-du-dimanche-maniwaki/2027-07-11/
LOCATION:Le Chemin – Maniwaki\, 257\, rue des Oblats\, Maniwaki\, Québec\, J9E 1G6
GEO:46.3796006;-75.9749274
X-APPLE-STRUCTURED-LOCATION;VALUE=URI;X-ADDRESS=Le Chemin – Maniwaki 257 rue des Oblats Maniwaki Québec J9E 1G6;X-APPLE-RADIUS=500;X-TITLE=257\, rue des Oblats:geo:-75.9749274,46.3796006
END:VEVENT
BEGIN:VEVENT
DTSTART;TZID=America/Toronto:20270718T103000
DTEND;TZID=America/Toronto:20270718T123000
DTSTAMP:20260419T135532
CREATED:20180508T174807Z
LAST-MODIFIED:20180508T174807Z
UID:20416-1815906600-1815913800@lechemin.ca
SUMMARY:Rencontre du dimanche - Maniwaki
DESCRIPTION:
URL:https://lechemin.ca/event/rencontre-du-dimanche-maniwaki/2027-07-18/
LOCATION:Le Chemin – Maniwaki\, 257\, rue des Oblats\, Maniwaki\, Québec\, J9E 1G6
GEO:46.3796006;-75.9749274
X-APPLE-STRUCTURED-LOCATION;VALUE=URI;X-ADDRESS=Le Chemin – Maniwaki 257 rue des Oblats Maniwaki Québec J9E 1G6;X-APPLE-RADIUS=500;X-TITLE=257\, rue des Oblats:geo:-75.9749274,46.3796006
END:VEVENT
BEGIN:VEVENT
DTSTART;TZID=America/Toronto:20270725T103000
DTEND;TZID=America/Toronto:20270725T123000
DTSTAMP:20260419T135532
CREATED:20180508T174807Z
LAST-MODIFIED:20180508T174807Z
UID:20423-1816511400-1816518600@lechemin.ca
SUMMARY:Rencontre du dimanche - Maniwaki
DESCRIPTION:
URL:https://lechemin.ca/event/rencontre-du-dimanche-maniwaki/2027-07-25/
LOCATION:Le Chemin – Maniwaki\, 257\, rue des Oblats\, Maniwaki\, Québec\, J9E 1G6
GEO:46.3796006;-75.9749274
X-APPLE-STRUCTURED-LOCATION;VALUE=URI;X-ADDRESS=Le Chemin – Maniwaki 257 rue des Oblats Maniwaki Québec J9E 1G6;X-APPLE-RADIUS=500;X-TITLE=257\, rue des Oblats:geo:-75.9749274,46.3796006
END:VEVENT
BEGIN:VEVENT
DTSTART;TZID=America/Toronto:20270801T103000
DTEND;TZID=America/Toronto:20270801T123000
DTSTAMP:20260419T135532
CREATED:20180508T174807Z
LAST-MODIFIED:20180508T174807Z
UID:20430-1817116200-1817123400@lechemin.ca
SUMMARY:Rencontre du dimanche - Maniwaki
DESCRIPTION:
URL:https://lechemin.ca/event/rencontre-du-dimanche-maniwaki/2027-08-01/
LOCATION:Le Chemin – Maniwaki\, 257\, rue des Oblats\, Maniwaki\, Québec\, J9E 1G6
GEO:46.3796006;-75.9749274
X-APPLE-STRUCTURED-LOCATION;VALUE=URI;X-ADDRESS=Le Chemin – Maniwaki 257 rue des Oblats Maniwaki Québec J9E 1G6;X-APPLE-RADIUS=500;X-TITLE=257\, rue des Oblats:geo:-75.9749274,46.3796006
END:VEVENT
BEGIN:VEVENT
DTSTART;TZID=America/Toronto:20270808T103000
DTEND;TZID=America/Toronto:20270808T123000
DTSTAMP:20260419T135532
CREATED:20180508T174807Z
LAST-MODIFIED:20180508T174807Z
UID:20439-1817721000-1817728200@lechemin.ca
SUMMARY:Rencontre du dimanche - Maniwaki
DESCRIPTION:
URL:https://lechemin.ca/event/rencontre-du-dimanche-maniwaki/2027-08-08/
LOCATION:Le Chemin – Maniwaki\, 257\, rue des Oblats\, Maniwaki\, Québec\, J9E 1G6
GEO:46.3796006;-75.9749274
X-APPLE-STRUCTURED-LOCATION;VALUE=URI;X-ADDRESS=Le Chemin – Maniwaki 257 rue des Oblats Maniwaki Québec J9E 1G6;X-APPLE-RADIUS=500;X-TITLE=257\, rue des Oblats:geo:-75.9749274,46.3796006
END:VEVENT
BEGIN:VEVENT
DTSTART;TZID=America/Toronto:20270815T103000
DTEND;TZID=America/Toronto:20270815T123000
DTSTAMP:20260419T135532
CREATED:20180508T174807Z
LAST-MODIFIED:20180508T174807Z
UID:20448-1818325800-1818333000@lechemin.ca
SUMMARY:Rencontre du dimanche - Maniwaki
DESCRIPTION:
URL:https://lechemin.ca/event/rencontre-du-dimanche-maniwaki/2027-08-15/
LOCATION:Le Chemin – Maniwaki\, 257\, rue des Oblats\, Maniwaki\, Québec\, J9E 1G6
GEO:46.3796006;-75.9749274
X-APPLE-STRUCTURED-LOCATION;VALUE=URI;X-ADDRESS=Le Chemin – Maniwaki 257 rue des Oblats Maniwaki Québec J9E 1G6;X-APPLE-RADIUS=500;X-TITLE=257\, rue des Oblats:geo:-75.9749274,46.3796006
END:VEVENT
BEGIN:VEVENT
DTSTART;TZID=America/Toronto:20270822T103000
DTEND;TZID=America/Toronto:20270822T123000
DTSTAMP:20260419T135532
CREATED:20180508T174807Z
LAST-MODIFIED:20180508T174807Z
UID:20455-1818930600-1818937800@lechemin.ca
SUMMARY:Rencontre du dimanche - Maniwaki
DESCRIPTION:
URL:https://lechemin.ca/event/rencontre-du-dimanche-maniwaki/2027-08-22/
LOCATION:Le Chemin – Maniwaki\, 257\, rue des Oblats\, Maniwaki\, Québec\, J9E 1G6
GEO:46.3796006;-75.9749274
X-APPLE-STRUCTURED-LOCATION;VALUE=URI;X-ADDRESS=Le Chemin – Maniwaki 257 rue des Oblats Maniwaki Québec J9E 1G6;X-APPLE-RADIUS=500;X-TITLE=257\, rue des Oblats:geo:-75.9749274,46.3796006
END:VEVENT
BEGIN:VEVENT
DTSTART;TZID=America/Toronto:20270829T103000
DTEND;TZID=America/Toronto:20270829T123000
DTSTAMP:20260419T135532
CREATED:20180508T174807Z
LAST-MODIFIED:20180508T174807Z
UID:20463-1819535400-1819542600@lechemin.ca
SUMMARY:Rencontre du dimanche - Maniwaki
DESCRIPTION:
URL:https://lechemin.ca/event/rencontre-du-dimanche-maniwaki/2027-08-29/
LOCATION:Le Chemin – Maniwaki\, 257\, rue des Oblats\, Maniwaki\, Québec\, J9E 1G6
GEO:46.3796006;-75.9749274
X-APPLE-STRUCTURED-LOCATION;VALUE=URI;X-ADDRESS=Le Chemin – Maniwaki 257 rue des Oblats Maniwaki Québec J9E 1G6;X-APPLE-RADIUS=500;X-TITLE=257\, rue des Oblats:geo:-75.9749274,46.3796006
END:VEVENT
BEGIN:VEVENT
DTSTART;TZID=America/Toronto:20270905T103000
DTEND;TZID=America/Toronto:20270905T123000
DTSTAMP:20260419T135532
CREATED:20180508T174807Z
LAST-MODIFIED:20180508T174807Z
UID:20471-1820140200-1820147400@lechemin.ca
SUMMARY:Rencontre du dimanche - Maniwaki
DESCRIPTION:
URL:https://lechemin.ca/event/rencontre-du-dimanche-maniwaki/2027-09-05/
LOCATION:Le Chemin – Maniwaki\, 257\, rue des Oblats\, Maniwaki\, Québec\, J9E 1G6
GEO:46.3796006;-75.9749274
X-APPLE-STRUCTURED-LOCATION;VALUE=URI;X-ADDRESS=Le Chemin – Maniwaki 257 rue des Oblats Maniwaki Québec J9E 1G6;X-APPLE-RADIUS=500;X-TITLE=257\, rue des Oblats:geo:-75.9749274,46.3796006
END:VEVENT
BEGIN:VEVENT
DTSTART;TZID=America/Toronto:20270912T103000
DTEND;TZID=America/Toronto:20270912T123000
DTSTAMP:20260419T135532
CREATED:20180508T174807Z
LAST-MODIFIED:20180508T174807Z
UID:20480-1820745000-1820752200@lechemin.ca
SUMMARY:Rencontre du dimanche - Maniwaki
DESCRIPTION:
URL:https://lechemin.ca/event/rencontre-du-dimanche-maniwaki/2027-09-12/
LOCATION:Le Chemin – Maniwaki\, 257\, rue des Oblats\, Maniwaki\, Québec\, J9E 1G6
GEO:46.3796006;-75.9749274
X-APPLE-STRUCTURED-LOCATION;VALUE=URI;X-ADDRESS=Le Chemin – Maniwaki 257 rue des Oblats Maniwaki Québec J9E 1G6;X-APPLE-RADIUS=500;X-TITLE=257\, rue des Oblats:geo:-75.9749274,46.3796006
END:VEVENT
BEGIN:VEVENT
DTSTART;TZID=America/Toronto:20270919T103000
DTEND;TZID=America/Toronto:20270919T123000
DTSTAMP:20260419T135532
CREATED:20180508T174807Z
LAST-MODIFIED:20180508T174807Z
UID:20487-1821349800-1821357000@lechemin.ca
SUMMARY:Rencontre du dimanche - Maniwaki
DESCRIPTION:
URL:https://lechemin.ca/event/rencontre-du-dimanche-maniwaki/2027-09-19/
LOCATION:Le Chemin – Maniwaki\, 257\, rue des Oblats\, Maniwaki\, Québec\, J9E 1G6
GEO:46.3796006;-75.9749274
X-APPLE-STRUCTURED-LOCATION;VALUE=URI;X-ADDRESS=Le Chemin – Maniwaki 257 rue des Oblats Maniwaki Québec J9E 1G6;X-APPLE-RADIUS=500;X-TITLE=257\, rue des Oblats:geo:-75.9749274,46.3796006
END:VEVENT
BEGIN:VEVENT
DTSTART;TZID=America/Toronto:20270926T103000
DTEND;TZID=America/Toronto:20270926T123000
DTSTAMP:20260419T135532
CREATED:20180508T174807Z
LAST-MODIFIED:20180508T174807Z
UID:20496-1821954600-1821961800@lechemin.ca
SUMMARY:Rencontre du dimanche - Maniwaki
DESCRIPTION:
URL:https://lechemin.ca/event/rencontre-du-dimanche-maniwaki/2027-09-26/
LOCATION:Le Chemin – Maniwaki\, 257\, rue des Oblats\, Maniwaki\, Québec\, J9E 1G6
GEO:46.3796006;-75.9749274
X-APPLE-STRUCTURED-LOCATION;VALUE=URI;X-ADDRESS=Le Chemin – Maniwaki 257 rue des Oblats Maniwaki Québec J9E 1G6;X-APPLE-RADIUS=500;X-TITLE=257\, rue des Oblats:geo:-75.9749274,46.3796006
END:VEVENT
BEGIN:VEVENT
DTSTART;TZID=America/Toronto:20271003T103000
DTEND;TZID=America/Toronto:20271003T123000
DTSTAMP:20260419T135532
CREATED:20180508T174807Z
LAST-MODIFIED:20180508T174807Z
UID:20505-1822559400-1822566600@lechemin.ca
SUMMARY:Rencontre du dimanche - Maniwaki
DESCRIPTION:
URL:https://lechemin.ca/event/rencontre-du-dimanche-maniwaki/2027-10-03/
LOCATION:Le Chemin – Maniwaki\, 257\, rue des Oblats\, Maniwaki\, Québec\, J9E 1G6
GEO:46.3796006;-75.9749274
X-APPLE-STRUCTURED-LOCATION;VALUE=URI;X-ADDRESS=Le Chemin – Maniwaki 257 rue des Oblats Maniwaki Québec J9E 1G6;X-APPLE-RADIUS=500;X-TITLE=257\, rue des Oblats:geo:-75.9749274,46.3796006
END:VEVENT
BEGIN:VEVENT
DTSTART;TZID=America/Toronto:20271010T103000
DTEND;TZID=America/Toronto:20271010T123000
DTSTAMP:20260419T135532
CREATED:20180508T174807Z
LAST-MODIFIED:20180508T174807Z
UID:20514-1823164200-1823171400@lechemin.ca
SUMMARY:Rencontre du dimanche - Maniwaki
DESCRIPTION:
URL:https://lechemin.ca/event/rencontre-du-dimanche-maniwaki/2027-10-10/
LOCATION:Le Chemin – Maniwaki\, 257\, rue des Oblats\, Maniwaki\, Québec\, J9E 1G6
GEO:46.3796006;-75.9749274
X-APPLE-STRUCTURED-LOCATION;VALUE=URI;X-ADDRESS=Le Chemin – Maniwaki 257 rue des Oblats Maniwaki Québec J9E 1G6;X-APPLE-RADIUS=500;X-TITLE=257\, rue des Oblats:geo:-75.9749274,46.3796006
END:VEVENT
BEGIN:VEVENT
DTSTART;TZID=America/Toronto:20271017T103000
DTEND;TZID=America/Toronto:20271017T123000
DTSTAMP:20260419T135532
CREATED:20180508T174807Z
LAST-MODIFIED:20180508T174807Z
UID:20521-1823769000-1823776200@lechemin.ca
SUMMARY:Rencontre du dimanche - Maniwaki
DESCRIPTION:
URL:https://lechemin.ca/event/rencontre-du-dimanche-maniwaki/2027-10-17/
LOCATION:Le Chemin – Maniwaki\, 257\, rue des Oblats\, Maniwaki\, Québec\, J9E 1G6
GEO:46.3796006;-75.9749274
X-APPLE-STRUCTURED-LOCATION;VALUE=URI;X-ADDRESS=Le Chemin – Maniwaki 257 rue des Oblats Maniwaki Québec J9E 1G6;X-APPLE-RADIUS=500;X-TITLE=257\, rue des Oblats:geo:-75.9749274,46.3796006
END:VEVENT
BEGIN:VEVENT
DTSTART;TZID=America/Toronto:20271024T103000
DTEND;TZID=America/Toronto:20271024T123000
DTSTAMP:20260419T135532
CREATED:20180508T174807Z
LAST-MODIFIED:20180508T174807Z
UID:20529-1824373800-1824381000@lechemin.ca
SUMMARY:Rencontre du dimanche - Maniwaki
DESCRIPTION:
URL:https://lechemin.ca/event/rencontre-du-dimanche-maniwaki/2027-10-24/
LOCATION:Le Chemin – Maniwaki\, 257\, rue des Oblats\, Maniwaki\, Québec\, J9E 1G6
GEO:46.3796006;-75.9749274
X-APPLE-STRUCTURED-LOCATION;VALUE=URI;X-ADDRESS=Le Chemin – Maniwaki 257 rue des Oblats Maniwaki Québec J9E 1G6;X-APPLE-RADIUS=500;X-TITLE=257\, rue des Oblats:geo:-75.9749274,46.3796006
END:VEVENT
BEGIN:VEVENT
DTSTART;TZID=America/Toronto:20271031T103000
DTEND;TZID=America/Toronto:20271031T123000
DTSTAMP:20260419T135532
CREATED:20180508T174807Z
LAST-MODIFIED:20180508T174807Z
UID:20536-1824978600-1824985800@lechemin.ca
SUMMARY:Rencontre du dimanche - Maniwaki
DESCRIPTION:
URL:https://lechemin.ca/event/rencontre-du-dimanche-maniwaki/2027-10-31/
LOCATION:Le Chemin – Maniwaki\, 257\, rue des Oblats\, Maniwaki\, Québec\, J9E 1G6
GEO:46.3796006;-75.9749274
X-APPLE-STRUCTURED-LOCATION;VALUE=URI;X-ADDRESS=Le Chemin – Maniwaki 257 rue des Oblats Maniwaki Québec J9E 1G6;X-APPLE-RADIUS=500;X-TITLE=257\, rue des Oblats:geo:-75.9749274,46.3796006
END:VEVENT
END:VCALENDAR