BEGIN:VCALENDAR
VERSION:2.0
PRODID:-//Le Chemin - ECPv6.7.0//NONSGML v1.0//EN
CALSCALE:GREGORIAN
METHOD:PUBLISH
X-ORIGINAL-URL:https://lechemin.ca
X-WR-CALDESC:évènements pour Le Chemin
REFRESH-INTERVAL;VALUE=DURATION:PT1H
X-Robots-Tag:noindex
X-PUBLISHED-TTL:PT1H
BEGIN:VTIMEZONE
TZID:America/Toronto
BEGIN:DAYLIGHT
TZOFFSETFROM:-0500
TZOFFSETTO:-0400
TZNAME:EDT
DTSTART:20250309T070000
END:DAYLIGHT
BEGIN:STANDARD
TZOFFSETFROM:-0400
TZOFFSETTO:-0500
TZNAME:EST
DTSTART:20251102T060000
END:STANDARD
BEGIN:DAYLIGHT
TZOFFSETFROM:-0500
TZOFFSETTO:-0400
TZNAME:EDT
DTSTART:20260308T070000
END:DAYLIGHT
BEGIN:STANDARD
TZOFFSETFROM:-0400
TZOFFSETTO:-0500
TZNAME:EST
DTSTART:20261101T060000
END:STANDARD
END:VTIMEZONE
BEGIN:VEVENT
DTSTART;TZID=America/Toronto:20260208T103000
DTEND;TZID=America/Toronto:20260208T123000
DTSTAMP:20260421T064755
CREATED:20180508T174807Z
LAST-MODIFIED:20180508T174807Z
UID:19540-1770546600-1770553800@lechemin.ca
SUMMARY:Rencontre du dimanche - Maniwaki
DESCRIPTION:
URL:https://lechemin.ca/event/rencontre-du-dimanche-maniwaki/2026-02-08/
LOCATION:Le Chemin – Maniwaki\, 257\, rue des Oblats\, Maniwaki\, Québec\, J9E 1G6
GEO:46.3796006;-75.9749274
X-APPLE-STRUCTURED-LOCATION;VALUE=URI;X-ADDRESS=Le Chemin – Maniwaki 257 rue des Oblats Maniwaki Québec J9E 1G6;X-APPLE-RADIUS=500;X-TITLE=257\, rue des Oblats:geo:-75.9749274,46.3796006
END:VEVENT
BEGIN:VEVENT
DTSTART;TZID=America/Toronto:20260201T103000
DTEND;TZID=America/Toronto:20260201T123000
DTSTAMP:20260421T064755
CREATED:20180508T174807Z
LAST-MODIFIED:20180508T174807Z
UID:19532-1769941800-1769949000@lechemin.ca
SUMMARY:Rencontre du dimanche - Maniwaki
DESCRIPTION:
URL:https://lechemin.ca/event/rencontre-du-dimanche-maniwaki/2026-02-01/
LOCATION:Le Chemin – Maniwaki\, 257\, rue des Oblats\, Maniwaki\, Québec\, J9E 1G6
GEO:46.3796006;-75.9749274
X-APPLE-STRUCTURED-LOCATION;VALUE=URI;X-ADDRESS=Le Chemin – Maniwaki 257 rue des Oblats Maniwaki Québec J9E 1G6;X-APPLE-RADIUS=500;X-TITLE=257\, rue des Oblats:geo:-75.9749274,46.3796006
END:VEVENT
BEGIN:VEVENT
DTSTART;TZID=America/Toronto:20260125T103000
DTEND;TZID=America/Toronto:20260125T123000
DTSTAMP:20260421T064755
CREATED:20180508T174807Z
LAST-MODIFIED:20180508T174807Z
UID:19520-1769337000-1769344200@lechemin.ca
SUMMARY:Rencontre du dimanche - Maniwaki
DESCRIPTION:
URL:https://lechemin.ca/event/rencontre-du-dimanche-maniwaki/2026-01-25/
LOCATION:Le Chemin – Maniwaki\, 257\, rue des Oblats\, Maniwaki\, Québec\, J9E 1G6
GEO:46.3796006;-75.9749274
X-APPLE-STRUCTURED-LOCATION;VALUE=URI;X-ADDRESS=Le Chemin – Maniwaki 257 rue des Oblats Maniwaki Québec J9E 1G6;X-APPLE-RADIUS=500;X-TITLE=257\, rue des Oblats:geo:-75.9749274,46.3796006
END:VEVENT
BEGIN:VEVENT
DTSTART;TZID=America/Toronto:20260118T103000
DTEND;TZID=America/Toronto:20260118T123000
DTSTAMP:20260421T064755
CREATED:20180508T174807Z
LAST-MODIFIED:20180508T174807Z
UID:19511-1768732200-1768739400@lechemin.ca
SUMMARY:Rencontre du dimanche - Maniwaki
DESCRIPTION:
URL:https://lechemin.ca/event/rencontre-du-dimanche-maniwaki/2026-01-18/
LOCATION:Le Chemin – Maniwaki\, 257\, rue des Oblats\, Maniwaki\, Québec\, J9E 1G6
GEO:46.3796006;-75.9749274
X-APPLE-STRUCTURED-LOCATION;VALUE=URI;X-ADDRESS=Le Chemin – Maniwaki 257 rue des Oblats Maniwaki Québec J9E 1G6;X-APPLE-RADIUS=500;X-TITLE=257\, rue des Oblats:geo:-75.9749274,46.3796006
END:VEVENT
BEGIN:VEVENT
DTSTART;TZID=America/Toronto:20260111T103000
DTEND;TZID=America/Toronto:20260111T123000
DTSTAMP:20260421T064755
CREATED:20180508T174807Z
LAST-MODIFIED:20180508T174807Z
UID:19504-1768127400-1768134600@lechemin.ca
SUMMARY:Rencontre du dimanche - Maniwaki
DESCRIPTION:
URL:https://lechemin.ca/event/rencontre-du-dimanche-maniwaki/2026-01-11/
LOCATION:Le Chemin – Maniwaki\, 257\, rue des Oblats\, Maniwaki\, Québec\, J9E 1G6
GEO:46.3796006;-75.9749274
X-APPLE-STRUCTURED-LOCATION;VALUE=URI;X-ADDRESS=Le Chemin – Maniwaki 257 rue des Oblats Maniwaki Québec J9E 1G6;X-APPLE-RADIUS=500;X-TITLE=257\, rue des Oblats:geo:-75.9749274,46.3796006
END:VEVENT
BEGIN:VEVENT
DTSTART;TZID=America/Toronto:20260104T103000
DTEND;TZID=America/Toronto:20260104T123000
DTSTAMP:20260421T064755
CREATED:20180508T174807Z
LAST-MODIFIED:20180508T174807Z
UID:19446-1767522600-1767529800@lechemin.ca
SUMMARY:Rencontre du dimanche - Maniwaki
DESCRIPTION:
URL:https://lechemin.ca/event/rencontre-du-dimanche-maniwaki/2026-01-04/
LOCATION:Le Chemin – Maniwaki\, 257\, rue des Oblats\, Maniwaki\, Québec\, J9E 1G6
GEO:46.3796006;-75.9749274
X-APPLE-STRUCTURED-LOCATION;VALUE=URI;X-ADDRESS=Le Chemin – Maniwaki 257 rue des Oblats Maniwaki Québec J9E 1G6;X-APPLE-RADIUS=500;X-TITLE=257\, rue des Oblats:geo:-75.9749274,46.3796006
END:VEVENT
BEGIN:VEVENT
DTSTART;TZID=America/Toronto:20251228T103000
DTEND;TZID=America/Toronto:20251228T123000
DTSTAMP:20260421T064755
CREATED:20180508T174807Z
LAST-MODIFIED:20180508T174807Z
UID:19437-1766917800-1766925000@lechemin.ca
SUMMARY:Rencontre du dimanche - Maniwaki
DESCRIPTION:
URL:https://lechemin.ca/event/rencontre-du-dimanche-maniwaki/2025-12-28/
LOCATION:Le Chemin – Maniwaki\, 257\, rue des Oblats\, Maniwaki\, Québec\, J9E 1G6
GEO:46.3796006;-75.9749274
X-APPLE-STRUCTURED-LOCATION;VALUE=URI;X-ADDRESS=Le Chemin – Maniwaki 257 rue des Oblats Maniwaki Québec J9E 1G6;X-APPLE-RADIUS=500;X-TITLE=257\, rue des Oblats:geo:-75.9749274,46.3796006
END:VEVENT
BEGIN:VEVENT
DTSTART;TZID=America/Toronto:20251221T103000
DTEND;TZID=America/Toronto:20251221T123000
DTSTAMP:20260421T064755
CREATED:20180508T174807Z
LAST-MODIFIED:20180508T174807Z
UID:19428-1766313000-1766320200@lechemin.ca
SUMMARY:Rencontre du dimanche - Maniwaki
DESCRIPTION:
URL:https://lechemin.ca/event/rencontre-du-dimanche-maniwaki/2025-12-21/
LOCATION:Le Chemin – Maniwaki\, 257\, rue des Oblats\, Maniwaki\, Québec\, J9E 1G6
GEO:46.3796006;-75.9749274
X-APPLE-STRUCTURED-LOCATION;VALUE=URI;X-ADDRESS=Le Chemin – Maniwaki 257 rue des Oblats Maniwaki Québec J9E 1G6;X-APPLE-RADIUS=500;X-TITLE=257\, rue des Oblats:geo:-75.9749274,46.3796006
END:VEVENT
BEGIN:VEVENT
DTSTART;TZID=America/Toronto:20251214T103000
DTEND;TZID=America/Toronto:20251214T123000
DTSTAMP:20260421T064755
CREATED:20180508T174807Z
LAST-MODIFIED:20180508T174807Z
UID:19410-1765708200-1765715400@lechemin.ca
SUMMARY:Rencontre du dimanche - Maniwaki
DESCRIPTION:
URL:https://lechemin.ca/event/rencontre-du-dimanche-maniwaki/2025-12-14/
LOCATION:Le Chemin – Maniwaki\, 257\, rue des Oblats\, Maniwaki\, Québec\, J9E 1G6
GEO:46.3796006;-75.9749274
X-APPLE-STRUCTURED-LOCATION;VALUE=URI;X-ADDRESS=Le Chemin – Maniwaki 257 rue des Oblats Maniwaki Québec J9E 1G6;X-APPLE-RADIUS=500;X-TITLE=257\, rue des Oblats:geo:-75.9749274,46.3796006
END:VEVENT
BEGIN:VEVENT
DTSTART;TZID=America/Toronto:20251207T103000
DTEND;TZID=America/Toronto:20251207T123000
DTSTAMP:20260421T064755
CREATED:20180508T174807Z
LAST-MODIFIED:20180508T174807Z
UID:19394-1765103400-1765110600@lechemin.ca
SUMMARY:Rencontre du dimanche - Maniwaki
DESCRIPTION:
URL:https://lechemin.ca/event/rencontre-du-dimanche-maniwaki/2025-12-07/
LOCATION:Le Chemin – Maniwaki\, 257\, rue des Oblats\, Maniwaki\, Québec\, J9E 1G6
GEO:46.3796006;-75.9749274
X-APPLE-STRUCTURED-LOCATION;VALUE=URI;X-ADDRESS=Le Chemin – Maniwaki 257 rue des Oblats Maniwaki Québec J9E 1G6;X-APPLE-RADIUS=500;X-TITLE=257\, rue des Oblats:geo:-75.9749274,46.3796006
END:VEVENT
BEGIN:VEVENT
DTSTART;TZID=America/Toronto:20251130T103000
DTEND;TZID=America/Toronto:20251130T123000
DTSTAMP:20260421T064755
CREATED:20180508T174807Z
LAST-MODIFIED:20180508T174807Z
UID:19387-1764498600-1764505800@lechemin.ca
SUMMARY:Rencontre du dimanche - Maniwaki
DESCRIPTION:
URL:https://lechemin.ca/event/rencontre-du-dimanche-maniwaki/2025-11-30/
LOCATION:Le Chemin – Maniwaki\, 257\, rue des Oblats\, Maniwaki\, Québec\, J9E 1G6
GEO:46.3796006;-75.9749274
X-APPLE-STRUCTURED-LOCATION;VALUE=URI;X-ADDRESS=Le Chemin – Maniwaki 257 rue des Oblats Maniwaki Québec J9E 1G6;X-APPLE-RADIUS=500;X-TITLE=257\, rue des Oblats:geo:-75.9749274,46.3796006
END:VEVENT
BEGIN:VEVENT
DTSTART;TZID=America/Toronto:20251123T103000
DTEND;TZID=America/Toronto:20251123T123000
DTSTAMP:20260421T064755
CREATED:20180508T174807Z
LAST-MODIFIED:20180508T174807Z
UID:19358-1763893800-1763901000@lechemin.ca
SUMMARY:Rencontre du dimanche - Maniwaki
DESCRIPTION:
URL:https://lechemin.ca/event/rencontre-du-dimanche-maniwaki/2025-11-23/
LOCATION:Le Chemin – Maniwaki\, 257\, rue des Oblats\, Maniwaki\, Québec\, J9E 1G6
GEO:46.3796006;-75.9749274
X-APPLE-STRUCTURED-LOCATION;VALUE=URI;X-ADDRESS=Le Chemin – Maniwaki 257 rue des Oblats Maniwaki Québec J9E 1G6;X-APPLE-RADIUS=500;X-TITLE=257\, rue des Oblats:geo:-75.9749274,46.3796006
END:VEVENT
BEGIN:VEVENT
DTSTART;TZID=America/Toronto:20251116T103000
DTEND;TZID=America/Toronto:20251116T123000
DTSTAMP:20260421T064755
CREATED:20180508T174807Z
LAST-MODIFIED:20180508T174807Z
UID:19351-1763289000-1763296200@lechemin.ca
SUMMARY:Rencontre du dimanche - Maniwaki
DESCRIPTION:
URL:https://lechemin.ca/event/rencontre-du-dimanche-maniwaki/2025-11-16/
LOCATION:Le Chemin – Maniwaki\, 257\, rue des Oblats\, Maniwaki\, Québec\, J9E 1G6
GEO:46.3796006;-75.9749274
X-APPLE-STRUCTURED-LOCATION;VALUE=URI;X-ADDRESS=Le Chemin – Maniwaki 257 rue des Oblats Maniwaki Québec J9E 1G6;X-APPLE-RADIUS=500;X-TITLE=257\, rue des Oblats:geo:-75.9749274,46.3796006
END:VEVENT
BEGIN:VEVENT
DTSTART;TZID=America/Toronto:20251109T103000
DTEND;TZID=America/Toronto:20251109T123000
DTSTAMP:20260421T064755
CREATED:20180508T174807Z
LAST-MODIFIED:20180508T174807Z
UID:19344-1762684200-1762691400@lechemin.ca
SUMMARY:Rencontre du dimanche - Maniwaki
DESCRIPTION:
URL:https://lechemin.ca/event/rencontre-du-dimanche-maniwaki/2025-11-09/
LOCATION:Le Chemin – Maniwaki\, 257\, rue des Oblats\, Maniwaki\, Québec\, J9E 1G6
GEO:46.3796006;-75.9749274
X-APPLE-STRUCTURED-LOCATION;VALUE=URI;X-ADDRESS=Le Chemin – Maniwaki 257 rue des Oblats Maniwaki Québec J9E 1G6;X-APPLE-RADIUS=500;X-TITLE=257\, rue des Oblats:geo:-75.9749274,46.3796006
END:VEVENT
BEGIN:VEVENT
DTSTART;TZID=America/Toronto:20251102T103000
DTEND;TZID=America/Toronto:20251102T123000
DTSTAMP:20260421T064755
CREATED:20180508T174807Z
LAST-MODIFIED:20180508T174807Z
UID:19322-1762079400-1762086600@lechemin.ca
SUMMARY:Rencontre du dimanche - Maniwaki
DESCRIPTION:
URL:https://lechemin.ca/event/rencontre-du-dimanche-maniwaki/2025-11-02/
LOCATION:Le Chemin – Maniwaki\, 257\, rue des Oblats\, Maniwaki\, Québec\, J9E 1G6
GEO:46.3796006;-75.9749274
X-APPLE-STRUCTURED-LOCATION;VALUE=URI;X-ADDRESS=Le Chemin – Maniwaki 257 rue des Oblats Maniwaki Québec J9E 1G6;X-APPLE-RADIUS=500;X-TITLE=257\, rue des Oblats:geo:-75.9749274,46.3796006
END:VEVENT
BEGIN:VEVENT
DTSTART;TZID=America/Toronto:20251026T103000
DTEND;TZID=America/Toronto:20251026T123000
DTSTAMP:20260421T064755
CREATED:20180508T174807Z
LAST-MODIFIED:20180508T174807Z
UID:19304-1761474600-1761481800@lechemin.ca
SUMMARY:Rencontre du dimanche - Maniwaki
DESCRIPTION:
URL:https://lechemin.ca/event/rencontre-du-dimanche-maniwaki/2025-10-26/
LOCATION:Le Chemin – Maniwaki\, 257\, rue des Oblats\, Maniwaki\, Québec\, J9E 1G6
GEO:46.3796006;-75.9749274
X-APPLE-STRUCTURED-LOCATION;VALUE=URI;X-ADDRESS=Le Chemin – Maniwaki 257 rue des Oblats Maniwaki Québec J9E 1G6;X-APPLE-RADIUS=500;X-TITLE=257\, rue des Oblats:geo:-75.9749274,46.3796006
END:VEVENT
BEGIN:VEVENT
DTSTART;TZID=America/Toronto:20251019T103000
DTEND;TZID=America/Toronto:20251019T123000
DTSTAMP:20260421T064755
CREATED:20180508T174807Z
LAST-MODIFIED:20180508T174807Z
UID:19284-1760869800-1760877000@lechemin.ca
SUMMARY:Rencontre du dimanche - Maniwaki
DESCRIPTION:
URL:https://lechemin.ca/event/rencontre-du-dimanche-maniwaki/2025-10-19/
LOCATION:Le Chemin – Maniwaki\, 257\, rue des Oblats\, Maniwaki\, Québec\, J9E 1G6
GEO:46.3796006;-75.9749274
X-APPLE-STRUCTURED-LOCATION;VALUE=URI;X-ADDRESS=Le Chemin – Maniwaki 257 rue des Oblats Maniwaki Québec J9E 1G6;X-APPLE-RADIUS=500;X-TITLE=257\, rue des Oblats:geo:-75.9749274,46.3796006
END:VEVENT
BEGIN:VEVENT
DTSTART;TZID=America/Toronto:20251012T103000
DTEND;TZID=America/Toronto:20251012T123000
DTSTAMP:20260421T064755
CREATED:20180508T174807Z
LAST-MODIFIED:20180508T174807Z
UID:19275-1760265000-1760272200@lechemin.ca
SUMMARY:Rencontre du dimanche - Maniwaki
DESCRIPTION:
URL:https://lechemin.ca/event/rencontre-du-dimanche-maniwaki/2025-10-12/
LOCATION:Le Chemin – Maniwaki\, 257\, rue des Oblats\, Maniwaki\, Québec\, J9E 1G6
GEO:46.3796006;-75.9749274
X-APPLE-STRUCTURED-LOCATION;VALUE=URI;X-ADDRESS=Le Chemin – Maniwaki 257 rue des Oblats Maniwaki Québec J9E 1G6;X-APPLE-RADIUS=500;X-TITLE=257\, rue des Oblats:geo:-75.9749274,46.3796006
END:VEVENT
BEGIN:VEVENT
DTSTART;TZID=America/Toronto:20251005T103000
DTEND;TZID=America/Toronto:20251005T123000
DTSTAMP:20260421T064755
CREATED:20180508T174807Z
LAST-MODIFIED:20180508T174807Z
UID:19262-1759660200-1759667400@lechemin.ca
SUMMARY:Rencontre du dimanche - Maniwaki
DESCRIPTION:
URL:https://lechemin.ca/event/rencontre-du-dimanche-maniwaki/2025-10-05/
LOCATION:Le Chemin – Maniwaki\, 257\, rue des Oblats\, Maniwaki\, Québec\, J9E 1G6
GEO:46.3796006;-75.9749274
X-APPLE-STRUCTURED-LOCATION;VALUE=URI;X-ADDRESS=Le Chemin – Maniwaki 257 rue des Oblats Maniwaki Québec J9E 1G6;X-APPLE-RADIUS=500;X-TITLE=257\, rue des Oblats:geo:-75.9749274,46.3796006
END:VEVENT
BEGIN:VEVENT
DTSTART;TZID=America/Toronto:20250928T103000
DTEND;TZID=America/Toronto:20250928T123000
DTSTAMP:20260421T064755
CREATED:20180508T174807Z
LAST-MODIFIED:20180508T174807Z
UID:19255-1759055400-1759062600@lechemin.ca
SUMMARY:Rencontre du dimanche - Maniwaki
DESCRIPTION:
URL:https://lechemin.ca/event/rencontre-du-dimanche-maniwaki/2025-09-28/
LOCATION:Le Chemin – Maniwaki\, 257\, rue des Oblats\, Maniwaki\, Québec\, J9E 1G6
GEO:46.3796006;-75.9749274
X-APPLE-STRUCTURED-LOCATION;VALUE=URI;X-ADDRESS=Le Chemin – Maniwaki 257 rue des Oblats Maniwaki Québec J9E 1G6;X-APPLE-RADIUS=500;X-TITLE=257\, rue des Oblats:geo:-75.9749274,46.3796006
END:VEVENT
BEGIN:VEVENT
DTSTART;TZID=America/Toronto:20250921T103000
DTEND;TZID=America/Toronto:20250921T123000
DTSTAMP:20260421T064755
CREATED:20180508T174807Z
LAST-MODIFIED:20180508T174807Z
UID:19248-1758450600-1758457800@lechemin.ca
SUMMARY:Rencontre du dimanche - Maniwaki
DESCRIPTION:
URL:https://lechemin.ca/event/rencontre-du-dimanche-maniwaki/2025-09-21/
LOCATION:Le Chemin – Maniwaki\, 257\, rue des Oblats\, Maniwaki\, Québec\, J9E 1G6
GEO:46.3796006;-75.9749274
X-APPLE-STRUCTURED-LOCATION;VALUE=URI;X-ADDRESS=Le Chemin – Maniwaki 257 rue des Oblats Maniwaki Québec J9E 1G6;X-APPLE-RADIUS=500;X-TITLE=257\, rue des Oblats:geo:-75.9749274,46.3796006
END:VEVENT
BEGIN:VEVENT
DTSTART;TZID=America/Toronto:20250914T103000
DTEND;TZID=America/Toronto:20250914T123000
DTSTAMP:20260421T064755
CREATED:20180508T174807Z
LAST-MODIFIED:20180508T174807Z
UID:19241-1757845800-1757853000@lechemin.ca
SUMMARY:Rencontre du dimanche - Maniwaki
DESCRIPTION:
URL:https://lechemin.ca/event/rencontre-du-dimanche-maniwaki/2025-09-14/
LOCATION:Le Chemin – Maniwaki\, 257\, rue des Oblats\, Maniwaki\, Québec\, J9E 1G6
GEO:46.3796006;-75.9749274
X-APPLE-STRUCTURED-LOCATION;VALUE=URI;X-ADDRESS=Le Chemin – Maniwaki 257 rue des Oblats Maniwaki Québec J9E 1G6;X-APPLE-RADIUS=500;X-TITLE=257\, rue des Oblats:geo:-75.9749274,46.3796006
END:VEVENT
BEGIN:VEVENT
DTSTART;TZID=America/Toronto:20250907T103000
DTEND;TZID=America/Toronto:20250907T123000
DTSTAMP:20260421T064755
CREATED:20180508T174807Z
LAST-MODIFIED:20180508T174807Z
UID:19233-1757241000-1757248200@lechemin.ca
SUMMARY:Rencontre du dimanche - Maniwaki
DESCRIPTION:
URL:https://lechemin.ca/event/rencontre-du-dimanche-maniwaki/2025-09-07/
LOCATION:Le Chemin – Maniwaki\, 257\, rue des Oblats\, Maniwaki\, Québec\, J9E 1G6
GEO:46.3796006;-75.9749274
X-APPLE-STRUCTURED-LOCATION;VALUE=URI;X-ADDRESS=Le Chemin – Maniwaki 257 rue des Oblats Maniwaki Québec J9E 1G6;X-APPLE-RADIUS=500;X-TITLE=257\, rue des Oblats:geo:-75.9749274,46.3796006
END:VEVENT
BEGIN:VEVENT
DTSTART;TZID=America/Toronto:20250831T103000
DTEND;TZID=America/Toronto:20250831T123000
DTSTAMP:20260421T064755
CREATED:20180508T174807Z
LAST-MODIFIED:20180508T174807Z
UID:19226-1756636200-1756643400@lechemin.ca
SUMMARY:Rencontre du dimanche - Maniwaki
DESCRIPTION:
URL:https://lechemin.ca/event/rencontre-du-dimanche-maniwaki/2025-08-31/
LOCATION:Le Chemin – Maniwaki\, 257\, rue des Oblats\, Maniwaki\, Québec\, J9E 1G6
GEO:46.3796006;-75.9749274
X-APPLE-STRUCTURED-LOCATION;VALUE=URI;X-ADDRESS=Le Chemin – Maniwaki 257 rue des Oblats Maniwaki Québec J9E 1G6;X-APPLE-RADIUS=500;X-TITLE=257\, rue des Oblats:geo:-75.9749274,46.3796006
END:VEVENT
BEGIN:VEVENT
DTSTART;TZID=America/Toronto:20250824T103000
DTEND;TZID=America/Toronto:20250824T123000
DTSTAMP:20260421T064755
CREATED:20180508T174807Z
LAST-MODIFIED:20180508T174807Z
UID:19218-1756031400-1756038600@lechemin.ca
SUMMARY:Rencontre du dimanche - Maniwaki
DESCRIPTION:
URL:https://lechemin.ca/event/rencontre-du-dimanche-maniwaki/2025-08-24/
LOCATION:Le Chemin – Maniwaki\, 257\, rue des Oblats\, Maniwaki\, Québec\, J9E 1G6
GEO:46.3796006;-75.9749274
X-APPLE-STRUCTURED-LOCATION;VALUE=URI;X-ADDRESS=Le Chemin – Maniwaki 257 rue des Oblats Maniwaki Québec J9E 1G6;X-APPLE-RADIUS=500;X-TITLE=257\, rue des Oblats:geo:-75.9749274,46.3796006
END:VEVENT
BEGIN:VEVENT
DTSTART;TZID=America/Toronto:20250817T103000
DTEND;TZID=America/Toronto:20250817T123000
DTSTAMP:20260421T064755
CREATED:20180508T174807Z
LAST-MODIFIED:20180508T174807Z
UID:19210-1755426600-1755433800@lechemin.ca
SUMMARY:Rencontre du dimanche - Maniwaki
DESCRIPTION:
URL:https://lechemin.ca/event/rencontre-du-dimanche-maniwaki/2025-08-17/
LOCATION:Le Chemin – Maniwaki\, 257\, rue des Oblats\, Maniwaki\, Québec\, J9E 1G6
GEO:46.3796006;-75.9749274
X-APPLE-STRUCTURED-LOCATION;VALUE=URI;X-ADDRESS=Le Chemin – Maniwaki 257 rue des Oblats Maniwaki Québec J9E 1G6;X-APPLE-RADIUS=500;X-TITLE=257\, rue des Oblats:geo:-75.9749274,46.3796006
END:VEVENT
BEGIN:VEVENT
DTSTART;TZID=America/Toronto:20250810T103000
DTEND;TZID=America/Toronto:20250810T123000
DTSTAMP:20260421T064755
CREATED:20180508T174807Z
LAST-MODIFIED:20180508T174807Z
UID:19202-1754821800-1754829000@lechemin.ca
SUMMARY:Rencontre du dimanche - Maniwaki
DESCRIPTION:
URL:https://lechemin.ca/event/rencontre-du-dimanche-maniwaki/2025-08-10/
LOCATION:Le Chemin – Maniwaki\, 257\, rue des Oblats\, Maniwaki\, Québec\, J9E 1G6
GEO:46.3796006;-75.9749274
X-APPLE-STRUCTURED-LOCATION;VALUE=URI;X-ADDRESS=Le Chemin – Maniwaki 257 rue des Oblats Maniwaki Québec J9E 1G6;X-APPLE-RADIUS=500;X-TITLE=257\, rue des Oblats:geo:-75.9749274,46.3796006
END:VEVENT
BEGIN:VEVENT
DTSTART;TZID=America/Toronto:20250803T103000
DTEND;TZID=America/Toronto:20250803T123000
DTSTAMP:20260421T064755
CREATED:20180508T174807Z
LAST-MODIFIED:20180508T174807Z
UID:19194-1754217000-1754224200@lechemin.ca
SUMMARY:Rencontre du dimanche - Maniwaki
DESCRIPTION:
URL:https://lechemin.ca/event/rencontre-du-dimanche-maniwaki/2025-08-03/
LOCATION:Le Chemin – Maniwaki\, 257\, rue des Oblats\, Maniwaki\, Québec\, J9E 1G6
GEO:46.3796006;-75.9749274
X-APPLE-STRUCTURED-LOCATION;VALUE=URI;X-ADDRESS=Le Chemin – Maniwaki 257 rue des Oblats Maniwaki Québec J9E 1G6;X-APPLE-RADIUS=500;X-TITLE=257\, rue des Oblats:geo:-75.9749274,46.3796006
END:VEVENT
BEGIN:VEVENT
DTSTART;TZID=America/Toronto:20250727T103000
DTEND;TZID=America/Toronto:20250727T123000
DTSTAMP:20260421T064755
CREATED:20180508T174807Z
LAST-MODIFIED:20180508T174807Z
UID:19184-1753612200-1753619400@lechemin.ca
SUMMARY:Rencontre du dimanche - Maniwaki
DESCRIPTION:
URL:https://lechemin.ca/event/rencontre-du-dimanche-maniwaki/2025-07-27/
LOCATION:Le Chemin – Maniwaki\, 257\, rue des Oblats\, Maniwaki\, Québec\, J9E 1G6
GEO:46.3796006;-75.9749274
X-APPLE-STRUCTURED-LOCATION;VALUE=URI;X-ADDRESS=Le Chemin – Maniwaki 257 rue des Oblats Maniwaki Québec J9E 1G6;X-APPLE-RADIUS=500;X-TITLE=257\, rue des Oblats:geo:-75.9749274,46.3796006
END:VEVENT
BEGIN:VEVENT
DTSTART;TZID=America/Toronto:20250720T103000
DTEND;TZID=America/Toronto:20250720T123000
DTSTAMP:20260421T064755
CREATED:20180508T174807Z
LAST-MODIFIED:20180508T174807Z
UID:19170-1753007400-1753014600@lechemin.ca
SUMMARY:Rencontre du dimanche - Maniwaki
DESCRIPTION:
URL:https://lechemin.ca/event/rencontre-du-dimanche-maniwaki/2025-07-20/
LOCATION:Le Chemin – Maniwaki\, 257\, rue des Oblats\, Maniwaki\, Québec\, J9E 1G6
GEO:46.3796006;-75.9749274
X-APPLE-STRUCTURED-LOCATION;VALUE=URI;X-ADDRESS=Le Chemin – Maniwaki 257 rue des Oblats Maniwaki Québec J9E 1G6;X-APPLE-RADIUS=500;X-TITLE=257\, rue des Oblats:geo:-75.9749274,46.3796006
END:VEVENT
END:VCALENDAR