BEGIN:VCALENDAR
VERSION:2.0
PRODID:-//Le Chemin - ECPv6.7.0//NONSGML v1.0//EN
CALSCALE:GREGORIAN
METHOD:PUBLISH
X-ORIGINAL-URL:https://lechemin.ca
X-WR-CALDESC:évènements pour Le Chemin
REFRESH-INTERVAL;VALUE=DURATION:PT1H
X-Robots-Tag:noindex
X-PUBLISHED-TTL:PT1H
BEGIN:VTIMEZONE
TZID:America/Toronto
BEGIN:DAYLIGHT
TZOFFSETFROM:-0500
TZOFFSETTO:-0400
TZNAME:EDT
DTSTART:20280312T070000
END:DAYLIGHT
BEGIN:STANDARD
TZOFFSETFROM:-0400
TZOFFSETTO:-0500
TZNAME:EST
DTSTART:20281105T060000
END:STANDARD
END:VTIMEZONE
BEGIN:VEVENT
DTSTART;TZID=America/Toronto:20280116T103000
DTEND;TZID=America/Toronto:20280116T123000
DTSTAMP:20260419T200552
CREATED:20180508T174807Z
LAST-MODIFIED:20180508T174807Z
UID:20625-1831631400-1831638600@lechemin.ca
SUMMARY:Rencontre du dimanche - Maniwaki
DESCRIPTION:
URL:https://lechemin.ca/event/rencontre-du-dimanche-maniwaki/2028-01-16/
LOCATION:Le Chemin – Maniwaki\, 257\, rue des Oblats\, Maniwaki\, Québec\, J9E 1G6
GEO:46.3796006;-75.9749274
X-APPLE-STRUCTURED-LOCATION;VALUE=URI;X-ADDRESS=Le Chemin – Maniwaki 257 rue des Oblats Maniwaki Québec J9E 1G6;X-APPLE-RADIUS=500;X-TITLE=257\, rue des Oblats:geo:-75.9749274,46.3796006
END:VEVENT
BEGIN:VEVENT
DTSTART;TZID=America/Toronto:20280123T103000
DTEND;TZID=America/Toronto:20280123T123000
DTSTAMP:20260419T200552
CREATED:20180508T174807Z
LAST-MODIFIED:20180508T174807Z
UID:20634-1832236200-1832243400@lechemin.ca
SUMMARY:Rencontre du dimanche - Maniwaki
DESCRIPTION:
URL:https://lechemin.ca/event/rencontre-du-dimanche-maniwaki/2028-01-23/
LOCATION:Le Chemin – Maniwaki\, 257\, rue des Oblats\, Maniwaki\, Québec\, J9E 1G6
GEO:46.3796006;-75.9749274
X-APPLE-STRUCTURED-LOCATION;VALUE=URI;X-ADDRESS=Le Chemin – Maniwaki 257 rue des Oblats Maniwaki Québec J9E 1G6;X-APPLE-RADIUS=500;X-TITLE=257\, rue des Oblats:geo:-75.9749274,46.3796006
END:VEVENT
BEGIN:VEVENT
DTSTART;TZID=America/Toronto:20280130T103000
DTEND;TZID=America/Toronto:20280130T123000
DTSTAMP:20260419T200552
CREATED:20180508T174807Z
LAST-MODIFIED:20180508T174807Z
UID:20641-1832841000-1832848200@lechemin.ca
SUMMARY:Rencontre du dimanche - Maniwaki
DESCRIPTION:
URL:https://lechemin.ca/event/rencontre-du-dimanche-maniwaki/2028-01-30/
LOCATION:Le Chemin – Maniwaki\, 257\, rue des Oblats\, Maniwaki\, Québec\, J9E 1G6
GEO:46.3796006;-75.9749274
X-APPLE-STRUCTURED-LOCATION;VALUE=URI;X-ADDRESS=Le Chemin – Maniwaki 257 rue des Oblats Maniwaki Québec J9E 1G6;X-APPLE-RADIUS=500;X-TITLE=257\, rue des Oblats:geo:-75.9749274,46.3796006
END:VEVENT
BEGIN:VEVENT
DTSTART;TZID=America/Toronto:20280206T103000
DTEND;TZID=America/Toronto:20280206T123000
DTSTAMP:20260419T200552
CREATED:20180508T174807Z
LAST-MODIFIED:20180508T174807Z
UID:20649-1833445800-1833453000@lechemin.ca
SUMMARY:Rencontre du dimanche - Maniwaki
DESCRIPTION:
URL:https://lechemin.ca/event/rencontre-du-dimanche-maniwaki/2028-02-06/
LOCATION:Le Chemin – Maniwaki\, 257\, rue des Oblats\, Maniwaki\, Québec\, J9E 1G6
GEO:46.3796006;-75.9749274
X-APPLE-STRUCTURED-LOCATION;VALUE=URI;X-ADDRESS=Le Chemin – Maniwaki 257 rue des Oblats Maniwaki Québec J9E 1G6;X-APPLE-RADIUS=500;X-TITLE=257\, rue des Oblats:geo:-75.9749274,46.3796006
END:VEVENT
BEGIN:VEVENT
DTSTART;TZID=America/Toronto:20280213T103000
DTEND;TZID=America/Toronto:20280213T123000
DTSTAMP:20260419T200552
CREATED:20180508T174807Z
LAST-MODIFIED:20180508T174807Z
UID:20656-1834050600-1834057800@lechemin.ca
SUMMARY:Rencontre du dimanche - Maniwaki
DESCRIPTION:
URL:https://lechemin.ca/event/rencontre-du-dimanche-maniwaki/2028-02-13/
LOCATION:Le Chemin – Maniwaki\, 257\, rue des Oblats\, Maniwaki\, Québec\, J9E 1G6
GEO:46.3796006;-75.9749274
X-APPLE-STRUCTURED-LOCATION;VALUE=URI;X-ADDRESS=Le Chemin – Maniwaki 257 rue des Oblats Maniwaki Québec J9E 1G6;X-APPLE-RADIUS=500;X-TITLE=257\, rue des Oblats:geo:-75.9749274,46.3796006
END:VEVENT
BEGIN:VEVENT
DTSTART;TZID=America/Toronto:20280220T103000
DTEND;TZID=America/Toronto:20280220T123000
DTSTAMP:20260419T200552
CREATED:20180508T174807Z
LAST-MODIFIED:20180508T174807Z
UID:20667-1834655400-1834662600@lechemin.ca
SUMMARY:Rencontre du dimanche - Maniwaki
DESCRIPTION:
URL:https://lechemin.ca/event/rencontre-du-dimanche-maniwaki/2028-02-20/
LOCATION:Le Chemin – Maniwaki\, 257\, rue des Oblats\, Maniwaki\, Québec\, J9E 1G6
GEO:46.3796006;-75.9749274
X-APPLE-STRUCTURED-LOCATION;VALUE=URI;X-ADDRESS=Le Chemin – Maniwaki 257 rue des Oblats Maniwaki Québec J9E 1G6;X-APPLE-RADIUS=500;X-TITLE=257\, rue des Oblats:geo:-75.9749274,46.3796006
END:VEVENT
BEGIN:VEVENT
DTSTART;TZID=America/Toronto:20280227T103000
DTEND;TZID=America/Toronto:20280227T123000
DTSTAMP:20260419T200552
CREATED:20180508T174807Z
LAST-MODIFIED:20180508T174807Z
UID:20675-1835260200-1835267400@lechemin.ca
SUMMARY:Rencontre du dimanche - Maniwaki
DESCRIPTION:
URL:https://lechemin.ca/event/rencontre-du-dimanche-maniwaki/2028-02-27/
LOCATION:Le Chemin – Maniwaki\, 257\, rue des Oblats\, Maniwaki\, Québec\, J9E 1G6
GEO:46.3796006;-75.9749274
X-APPLE-STRUCTURED-LOCATION;VALUE=URI;X-ADDRESS=Le Chemin – Maniwaki 257 rue des Oblats Maniwaki Québec J9E 1G6;X-APPLE-RADIUS=500;X-TITLE=257\, rue des Oblats:geo:-75.9749274,46.3796006
END:VEVENT
BEGIN:VEVENT
DTSTART;TZID=America/Toronto:20280305T103000
DTEND;TZID=America/Toronto:20280305T123000
DTSTAMP:20260419T200552
CREATED:20180508T174807Z
LAST-MODIFIED:20180508T174807Z
UID:20685-1835865000-1835872200@lechemin.ca
SUMMARY:Rencontre du dimanche - Maniwaki
DESCRIPTION:
URL:https://lechemin.ca/event/rencontre-du-dimanche-maniwaki/2028-03-05/
LOCATION:Le Chemin – Maniwaki\, 257\, rue des Oblats\, Maniwaki\, Québec\, J9E 1G6
GEO:46.3796006;-75.9749274
X-APPLE-STRUCTURED-LOCATION;VALUE=URI;X-ADDRESS=Le Chemin – Maniwaki 257 rue des Oblats Maniwaki Québec J9E 1G6;X-APPLE-RADIUS=500;X-TITLE=257\, rue des Oblats:geo:-75.9749274,46.3796006
END:VEVENT
BEGIN:VEVENT
DTSTART;TZID=America/Toronto:20280312T103000
DTEND;TZID=America/Toronto:20280312T123000
DTSTAMP:20260419T200552
CREATED:20180508T174807Z
LAST-MODIFIED:20180508T174807Z
UID:20698-1836469800-1836477000@lechemin.ca
SUMMARY:Rencontre du dimanche - Maniwaki
DESCRIPTION:
URL:https://lechemin.ca/event/rencontre-du-dimanche-maniwaki/2028-03-12/
LOCATION:Le Chemin – Maniwaki\, 257\, rue des Oblats\, Maniwaki\, Québec\, J9E 1G6
GEO:46.3796006;-75.9749274
X-APPLE-STRUCTURED-LOCATION;VALUE=URI;X-ADDRESS=Le Chemin – Maniwaki 257 rue des Oblats Maniwaki Québec J9E 1G6;X-APPLE-RADIUS=500;X-TITLE=257\, rue des Oblats:geo:-75.9749274,46.3796006
END:VEVENT
BEGIN:VEVENT
DTSTART;TZID=America/Toronto:20280319T103000
DTEND;TZID=America/Toronto:20280319T123000
DTSTAMP:20260419T200552
CREATED:20180508T174807Z
LAST-MODIFIED:20180508T174807Z
UID:20707-1837074600-1837081800@lechemin.ca
SUMMARY:Rencontre du dimanche - Maniwaki
DESCRIPTION:
URL:https://lechemin.ca/event/rencontre-du-dimanche-maniwaki/2028-03-19/
LOCATION:Le Chemin – Maniwaki\, 257\, rue des Oblats\, Maniwaki\, Québec\, J9E 1G6
GEO:46.3796006;-75.9749274
X-APPLE-STRUCTURED-LOCATION;VALUE=URI;X-ADDRESS=Le Chemin – Maniwaki 257 rue des Oblats Maniwaki Québec J9E 1G6;X-APPLE-RADIUS=500;X-TITLE=257\, rue des Oblats:geo:-75.9749274,46.3796006
END:VEVENT
BEGIN:VEVENT
DTSTART;TZID=America/Toronto:20280326T103000
DTEND;TZID=America/Toronto:20280326T123000
DTSTAMP:20260419T200552
CREATED:20180508T174807Z
LAST-MODIFIED:20180508T174807Z
UID:20715-1837679400-1837686600@lechemin.ca
SUMMARY:Rencontre du dimanche - Maniwaki
DESCRIPTION:
URL:https://lechemin.ca/event/rencontre-du-dimanche-maniwaki/2028-03-26/
LOCATION:Le Chemin – Maniwaki\, 257\, rue des Oblats\, Maniwaki\, Québec\, J9E 1G6
GEO:46.3796006;-75.9749274
X-APPLE-STRUCTURED-LOCATION;VALUE=URI;X-ADDRESS=Le Chemin – Maniwaki 257 rue des Oblats Maniwaki Québec J9E 1G6;X-APPLE-RADIUS=500;X-TITLE=257\, rue des Oblats:geo:-75.9749274,46.3796006
END:VEVENT
BEGIN:VEVENT
DTSTART;TZID=America/Toronto:20280402T103000
DTEND;TZID=America/Toronto:20280402T123000
DTSTAMP:20260419T200552
CREATED:20180508T174807Z
LAST-MODIFIED:20180508T174807Z
UID:20722-1838284200-1838291400@lechemin.ca
SUMMARY:Rencontre du dimanche - Maniwaki
DESCRIPTION:
URL:https://lechemin.ca/event/rencontre-du-dimanche-maniwaki/2028-04-02/
LOCATION:Le Chemin – Maniwaki\, 257\, rue des Oblats\, Maniwaki\, Québec\, J9E 1G6
GEO:46.3796006;-75.9749274
X-APPLE-STRUCTURED-LOCATION;VALUE=URI;X-ADDRESS=Le Chemin – Maniwaki 257 rue des Oblats Maniwaki Québec J9E 1G6;X-APPLE-RADIUS=500;X-TITLE=257\, rue des Oblats:geo:-75.9749274,46.3796006
END:VEVENT
BEGIN:VEVENT
DTSTART;TZID=America/Toronto:20280409T103000
DTEND;TZID=America/Toronto:20280409T123000
DTSTAMP:20260419T200552
CREATED:20180508T174807Z
LAST-MODIFIED:20180508T174807Z
UID:20731-1838889000-1838896200@lechemin.ca
SUMMARY:Rencontre du dimanche - Maniwaki
DESCRIPTION:
URL:https://lechemin.ca/event/rencontre-du-dimanche-maniwaki/2028-04-09/
LOCATION:Le Chemin – Maniwaki\, 257\, rue des Oblats\, Maniwaki\, Québec\, J9E 1G6
GEO:46.3796006;-75.9749274
X-APPLE-STRUCTURED-LOCATION;VALUE=URI;X-ADDRESS=Le Chemin – Maniwaki 257 rue des Oblats Maniwaki Québec J9E 1G6;X-APPLE-RADIUS=500;X-TITLE=257\, rue des Oblats:geo:-75.9749274,46.3796006
END:VEVENT
BEGIN:VEVENT
DTSTART;TZID=America/Toronto:20280416T103000
DTEND;TZID=America/Toronto:20280416T123000
DTSTAMP:20260419T200552
CREATED:20180508T174807Z
LAST-MODIFIED:20180508T174807Z
UID:20740-1839493800-1839501000@lechemin.ca
SUMMARY:Rencontre du dimanche - Maniwaki
DESCRIPTION:
URL:https://lechemin.ca/event/rencontre-du-dimanche-maniwaki/2028-04-16/
LOCATION:Le Chemin – Maniwaki\, 257\, rue des Oblats\, Maniwaki\, Québec\, J9E 1G6
GEO:46.3796006;-75.9749274
X-APPLE-STRUCTURED-LOCATION;VALUE=URI;X-ADDRESS=Le Chemin – Maniwaki 257 rue des Oblats Maniwaki Québec J9E 1G6;X-APPLE-RADIUS=500;X-TITLE=257\, rue des Oblats:geo:-75.9749274,46.3796006
END:VEVENT
END:VCALENDAR